BEGIN:VCALENDAR
VERSION:2.0
PRODID:-//Biblioteka Publiczna w Częstochowie - ECPv6.15.20//NONSGML v1.0//EN
CALSCALE:GREGORIAN
METHOD:PUBLISH
X-ORIGINAL-URL:https://biblioteka.czest.pl
X-WR-CALDESC:Wydarzenia dla Biblioteka Publiczna w Częstochowie
REFRESH-INTERVAL;VALUE=DURATION:PT1H
X-Robots-Tag:noindex
X-PUBLISHED-TTL:PT1H
BEGIN:VTIMEZONE
TZID:Europe/Warsaw
BEGIN:DAYLIGHT
TZOFFSETFROM:+0100
TZOFFSETTO:+0200
TZNAME:CEST
DTSTART:20240331T010000
END:DAYLIGHT
BEGIN:STANDARD
TZOFFSETFROM:+0200
TZOFFSETTO:+0100
TZNAME:CET
DTSTART:20241027T010000
END:STANDARD
BEGIN:DAYLIGHT
TZOFFSETFROM:+0100
TZOFFSETTO:+0200
TZNAME:CEST
DTSTART:20250330T010000
END:DAYLIGHT
BEGIN:STANDARD
TZOFFSETFROM:+0200
TZOFFSETTO:+0100
TZNAME:CET
DTSTART:20251026T010000
END:STANDARD
BEGIN:DAYLIGHT
TZOFFSETFROM:+0100
TZOFFSETTO:+0200
TZNAME:CEST
DTSTART:20260329T010000
END:DAYLIGHT
BEGIN:STANDARD
TZOFFSETFROM:+0200
TZOFFSETTO:+0100
TZNAME:CET
DTSTART:20261025T010000
END:STANDARD
END:VTIMEZONE
BEGIN:VEVENT
DTSTART;TZID=Europe/Warsaw:20251128T180000
DTEND;TZID=Europe/Warsaw:20251128T193000
DTSTAMP:20260424T115059
CREATED:20251104T131222Z
LAST-MODIFIED:20251104T131222Z
UID:26586-1764352800-1764358200@biblioteka.czest.pl
SUMMARY:Warsztaty: Jak zrozumieć nastolatka
DESCRIPTION:Na spotkaniu skupimy się na poprawie komunikacji z dziećmi\, budowaniu więzi i radzeniu sobie z emocjami. Psycholog Beata Bielecka pokaże\, jak lepiej reagować na trudne sytuacje w relacji z nastolatkiem. \nObowiązują wcześniejsze zapisy!
URL:https://biblioteka.czest.pl/wydarzenie/warsztaty-jak-zrozumiec-nastolatka/
LOCATION:Filia nr 9\, Feliksa Nowowiejskiego 15\, Częstochowa\, Śląskie\, 42-200\, Poland
CATEGORIES:Dla dorosłych,Warsztaty
END:VEVENT
END:VCALENDAR