BEGIN:VCALENDAR
VERSION:2.0
PRODID:-//Biblioteka Publiczna w Częstochowie - ECPv6.15.20//NONSGML v1.0//EN
CALSCALE:GREGORIAN
METHOD:PUBLISH
X-ORIGINAL-URL:https://biblioteka.czest.pl
X-WR-CALDESC:Wydarzenia dla Biblioteka Publiczna w Częstochowie
REFRESH-INTERVAL;VALUE=DURATION:PT1H
X-Robots-Tag:noindex
X-PUBLISHED-TTL:PT1H
BEGIN:VTIMEZONE
TZID:Europe/Warsaw
BEGIN:DAYLIGHT
TZOFFSETFROM:+0100
TZOFFSETTO:+0200
TZNAME:CEST
DTSTART:20250330T010000
END:DAYLIGHT
BEGIN:STANDARD
TZOFFSETFROM:+0200
TZOFFSETTO:+0100
TZNAME:CET
DTSTART:20251026T010000
END:STANDARD
BEGIN:DAYLIGHT
TZOFFSETFROM:+0100
TZOFFSETTO:+0200
TZNAME:CEST
DTSTART:20260329T010000
END:DAYLIGHT
BEGIN:STANDARD
TZOFFSETFROM:+0200
TZOFFSETTO:+0100
TZNAME:CET
DTSTART:20261025T010000
END:STANDARD
BEGIN:DAYLIGHT
TZOFFSETFROM:+0100
TZOFFSETTO:+0200
TZNAME:CEST
DTSTART:20270328T010000
END:DAYLIGHT
BEGIN:STANDARD
TZOFFSETFROM:+0200
TZOFFSETTO:+0100
TZNAME:CET
DTSTART:20271031T010000
END:STANDARD
END:VTIMEZONE
BEGIN:VEVENT
DTSTART;TZID=Europe/Warsaw:20260227T150000
DTEND;TZID=Europe/Warsaw:20260227T163000
DTSTAMP:20260424T041644
CREATED:20260204T130821Z
LAST-MODIFIED:20260204T130821Z
UID:26880-1772204400-1772209800@biblioteka.czest.pl
SUMMARY:Rodzinne warsztaty: Makrama na start
DESCRIPTION:Uczestnicy zapoznają się z techniką makramy i nauczą się podstawowych splotów\, które umożliwią im zrobienie zakładki do książki.
URL:https://biblioteka.czest.pl/wydarzenie/rodzinne-warsztaty-makrama-na-start/
LOCATION:Filia nr 2\, Orlik-Rückemanna 35/37\, Częstochowa\, Śląskie\, 42-202\, Poland
CATEGORIES:Dla dorosłych,Dla dzieci,Dla młodzieży,Dla seniorów,Warsztaty
ORGANIZER;CN="Biblioteka Publiczna im. dr. W%C5%82adys%C5%82awa Biega%C5%84skiego":MAILTO:sekretariat@biblioteka.czest.pl
END:VEVENT
BEGIN:VEVENT
DTSTART;TZID=Europe/Warsaw:20260227T180000
DTEND;TZID=Europe/Warsaw:20260227T190000
DTSTAMP:20260424T041644
CREATED:20260212T093118Z
LAST-MODIFIED:20260212T093339Z
UID:26903-1772215200-1772218800@biblioteka.czest.pl
SUMMARY:Literacka Częstochowa – spotkanie z prof. Elżbietą Hurnik
DESCRIPTION:Zapraszamy na spotkanie z prof. Elżbietą Hurnik – literaturoznawczynią\, z którą porozmawiamy o literackiej Częstochowie: pisarzach związanych z miastem\, literackich tropach ukrytych w jego przestrzeni oraz o tym\, jak literatura buduje tożsamość miejsca.\nSpotkanie zainauguruje cykl „Częstochowskie opowieści”\, organizowany z okazji przypadającego w tym roku 200-lecia połączenia Starej i Nowej Częstochowy. \nWstęp wolny!
URL:https://biblioteka.czest.pl/wydarzenie/literacka-czestochowa-spotkanie-z-prof-elzbieta-hurnik/
LOCATION:Biblioteka Publiczna im. dr Władysława Biegańskiego\, Aleja Najświętszej Maryi Panny 22\, Częstochowa\, Śląskie\, 42-202\, Poland
CATEGORIES:Dla dorosłych,Dla młodzieży,Dla seniorów,Prelekcja,Spotkania autorskie
ORGANIZER;CN="Biblioteka Publiczna im. dr. W%C5%82adys%C5%82awa Biega%C5%84skiego":MAILTO:sekretariat@biblioteka.czest.pl
END:VEVENT
END:VCALENDAR