BEGIN:VCALENDAR
VERSION:2.0
PRODID:-//Biblioteka Publiczna w Częstochowie - ECPv6.15.20//NONSGML v1.0//EN
CALSCALE:GREGORIAN
METHOD:PUBLISH
X-ORIGINAL-URL:https://biblioteka.czest.pl
X-WR-CALDESC:Wydarzenia dla Biblioteka Publiczna w Częstochowie
REFRESH-INTERVAL;VALUE=DURATION:PT1H
X-Robots-Tag:noindex
X-PUBLISHED-TTL:PT1H
BEGIN:VTIMEZONE
TZID:Europe/Warsaw
BEGIN:DAYLIGHT
TZOFFSETFROM:+0100
TZOFFSETTO:+0200
TZNAME:CEST
DTSTART:20250330T010000
END:DAYLIGHT
BEGIN:STANDARD
TZOFFSETFROM:+0200
TZOFFSETTO:+0100
TZNAME:CET
DTSTART:20251026T010000
END:STANDARD
BEGIN:DAYLIGHT
TZOFFSETFROM:+0100
TZOFFSETTO:+0200
TZNAME:CEST
DTSTART:20260329T010000
END:DAYLIGHT
BEGIN:STANDARD
TZOFFSETFROM:+0200
TZOFFSETTO:+0100
TZNAME:CET
DTSTART:20261025T010000
END:STANDARD
BEGIN:DAYLIGHT
TZOFFSETFROM:+0100
TZOFFSETTO:+0200
TZNAME:CEST
DTSTART:20270328T010000
END:DAYLIGHT
BEGIN:STANDARD
TZOFFSETFROM:+0200
TZOFFSETTO:+0100
TZNAME:CET
DTSTART:20271031T010000
END:STANDARD
END:VTIMEZONE
BEGIN:VEVENT
DTSTART;TZID=Europe/Warsaw:20260418T100000
DTEND;TZID=Europe/Warsaw:20260418T120000
DTSTAMP:20260424T021716
CREATED:20260401T105204Z
LAST-MODIFIED:20260401T105204Z
UID:27281-1776506400-1776513600@biblioteka.czest.pl
SUMMARY:Warsztaty malarskie dla dorosłych
DESCRIPTION:Zapraszamy osoby\, które interesują się sztuką i chciałyby spróbować swoich sił w malarstwie. Zajęcia są dla osób początkujących. Krok po kroku namalujemy własnoręcznie wakacyjny pejzaż pod okiem graficzki Karoliny Basiak. \nObowiązują wcześniejsze zapisy!
URL:https://biblioteka.czest.pl/wydarzenie/warsztaty-malarskie-dla-doroslych/
LOCATION:Filia nr 9\, Feliksa Nowowiejskiego 15\, Częstochowa\, Śląskie\, 42-200\, Poland
CATEGORIES:Dla dorosłych,Dla młodzieży,Dla seniorów,Warsztaty,Zajęcia plastyczne
ORGANIZER;CN="Biblioteka Publiczna im. dr. W%C5%82adys%C5%82awa Biega%C5%84skiego":MAILTO:sekretariat@biblioteka.czest.pl
END:VEVENT
END:VCALENDAR