BEGIN:VCALENDAR
VERSION:2.0
PRODID:-//Biblioteka Publiczna w Częstochowie - ECPv6.15.20//NONSGML v1.0//EN
CALSCALE:GREGORIAN
METHOD:PUBLISH
X-WR-CALNAME:Biblioteka Publiczna w Częstochowie
X-ORIGINAL-URL:https://biblioteka.czest.pl
X-WR-CALDESC:Wydarzenia dla Biblioteka Publiczna w Częstochowie
REFRESH-INTERVAL;VALUE=DURATION:PT1H
X-Robots-Tag:noindex
X-PUBLISHED-TTL:PT1H
BEGIN:VTIMEZONE
TZID:Europe/Warsaw
BEGIN:DAYLIGHT
TZOFFSETFROM:+0100
TZOFFSETTO:+0200
TZNAME:CEST
DTSTART:20250330T010000
END:DAYLIGHT
BEGIN:STANDARD
TZOFFSETFROM:+0200
TZOFFSETTO:+0100
TZNAME:CET
DTSTART:20251026T010000
END:STANDARD
BEGIN:DAYLIGHT
TZOFFSETFROM:+0100
TZOFFSETTO:+0200
TZNAME:CEST
DTSTART:20260329T010000
END:DAYLIGHT
BEGIN:STANDARD
TZOFFSETFROM:+0200
TZOFFSETTO:+0100
TZNAME:CET
DTSTART:20261025T010000
END:STANDARD
BEGIN:DAYLIGHT
TZOFFSETFROM:+0100
TZOFFSETTO:+0200
TZNAME:CEST
DTSTART:20270328T010000
END:DAYLIGHT
BEGIN:STANDARD
TZOFFSETFROM:+0200
TZOFFSETTO:+0100
TZNAME:CET
DTSTART:20271031T010000
END:STANDARD
END:VTIMEZONE
BEGIN:VEVENT
DTSTART;TZID=Europe/Warsaw:20260420T180000
DTEND;TZID=Europe/Warsaw:20260420T193000
DTSTAMP:20260420T015938
CREATED:20260401T105832Z
LAST-MODIFIED:20260401T105832Z
UID:27283-1776708000-1776713400@biblioteka.czest.pl
SUMMARY:POGADUCHY W MUZOTECE Tajemnice zespołu The Beatles
DESCRIPTION:Poznamy historię jednego z najsłynniejszych brytyjskich zespołów rockowych z Liverpoolu – The Beatles. Podczas wydarzenia dowiemy się o ciekawostkach z ich kariery\, solowych projektach Johna Lennona\, Paula McCartneya\, George’a Harrisona i Ringo Starra oraz o najbardziej znanych teoriach spiskowych\, w tym słynnej „Paul is dead”. To podróż przez muzykę\, legendy i fascynujące tajemnice\, które uczyniły The Beatles ikonami światowej kultury. \nWstęp wolny!
URL:https://biblioteka.czest.pl/wydarzenie/pogaduchy-w-muzotece-tajemnice-zespolu-the-beatles/
LOCATION:Muzoteka\, Aleja Kościuszki 4\, Częstochowa\, Śląskie\, 42-200\, Poland
CATEGORIES:Dla dorosłych,Dla młodzieży,Dla seniorów,Prelekcja,Wykład
ORGANIZER;CN="Biblioteka Publiczna im. dr. W%C5%82adys%C5%82awa Biega%C5%84skiego":MAILTO:sekretariat@biblioteka.czest.pl
END:VEVENT
END:VCALENDAR