BEGIN:VCALENDAR
VERSION:2.0
PRODID:-//Biblioteka Publiczna w Częstochowie - ECPv6.15.20//NONSGML v1.0//EN
CALSCALE:GREGORIAN
METHOD:PUBLISH
X-WR-CALNAME:Biblioteka Publiczna w Częstochowie
X-ORIGINAL-URL:https://biblioteka.czest.pl
X-WR-CALDESC:Wydarzenia dla Biblioteka Publiczna w Częstochowie
REFRESH-INTERVAL;VALUE=DURATION:PT1H
X-Robots-Tag:noindex
X-PUBLISHED-TTL:PT1H
BEGIN:VTIMEZONE
TZID:Europe/Warsaw
BEGIN:DAYLIGHT
TZOFFSETFROM:+0100
TZOFFSETTO:+0200
TZNAME:CEST
DTSTART:20250330T010000
END:DAYLIGHT
BEGIN:STANDARD
TZOFFSETFROM:+0200
TZOFFSETTO:+0100
TZNAME:CET
DTSTART:20251026T010000
END:STANDARD
BEGIN:DAYLIGHT
TZOFFSETFROM:+0100
TZOFFSETTO:+0200
TZNAME:CEST
DTSTART:20260329T010000
END:DAYLIGHT
BEGIN:STANDARD
TZOFFSETFROM:+0200
TZOFFSETTO:+0100
TZNAME:CET
DTSTART:20261025T010000
END:STANDARD
BEGIN:DAYLIGHT
TZOFFSETFROM:+0100
TZOFFSETTO:+0200
TZNAME:CEST
DTSTART:20270328T010000
END:DAYLIGHT
BEGIN:STANDARD
TZOFFSETFROM:+0200
TZOFFSETTO:+0100
TZNAME:CET
DTSTART:20271031T010000
END:STANDARD
END:VTIMEZONE
BEGIN:VEVENT
DTSTART;TZID=Europe/Warsaw:20260422T120000
DTEND;TZID=Europe/Warsaw:20260422T130000
DTSTAMP:20260422T015801
CREATED:20260401T113612Z
LAST-MODIFIED:20260401T113612Z
UID:27285-1776859200-1776862800@biblioteka.czest.pl
SUMMARY:Z Biblioteką w świat sztuki
DESCRIPTION:Zapraszamy na wspólną wizytę w Galerii Dobrej Sztuki! Podczas spotkania będziemy odkrywać prace najważniejszych polskich artystów\, poznawać historie stojące za dziełami i dzielić się wrażeniami w miłej\, inspirującej atmosferze. To doskonała okazja\, aby poszerzyć swoje artystyczne horyzonty i spędzić czas w gronie pasjonatów sztuki.\nPrzy okazji polecimy książki o sztuce\, które pogłębią wiedzę zdobytą w Galerii! \nSpotkanie dla dorosłych i seniorów.\nWstęp wolny! \nSpotykamy się przy Galerii Dobrej Sztuki\nAl. Najświętszej Maryi Panny 47
URL:https://biblioteka.czest.pl/wydarzenie/z-biblioteka-w-swiat-sztuki/
LOCATION:Galeria Dobrej Sztuki\, Al. NMP 47\, Częstochowa\, śląskie\, 42-202
CATEGORIES:Dla dorosłych,Dla seniorów,Prelekcja,Wystawa
ORGANIZER;CN="Biblioteka Publiczna im. dr. W%C5%82adys%C5%82awa Biega%C5%84skiego":MAILTO:sekretariat@biblioteka.czest.pl
END:VEVENT
BEGIN:VEVENT
DTSTART;TZID=Europe/Warsaw:20260422T170000
DTEND;TZID=Europe/Warsaw:20260422T180000
DTSTAMP:20260422T015801
CREATED:20260401T124909Z
LAST-MODIFIED:20260401T131325Z
UID:27291-1776877200-1776880800@biblioteka.czest.pl
SUMMARY:Odkryjmy Częstochowę na nowo - wydarzenia
DESCRIPTION:Zapraszamy na cykl prelekcji organizowanych w ramach projektu „Odkryjmy Częstochowę na nowo”\, poświęconego historii naszego miasta oraz jego dziedzictwu artystycznemu. \nPrelekcję poprowadzi dr Katarzyna Zalewska \nProjekt realizowany jest dzięki dofinansowaniu ze środków Ministerstwa Kultury i Dziedzictwa Narodowego w ramach programu „Edukacja kulturalna”. \nWstęp wolny!
URL:https://biblioteka.czest.pl/wydarzenie/odkryjmy-czestochowe-na-nowo-wydarzenia/
LOCATION:Biblioteka Publiczna im. dr Władysława Biegańskiego\, Aleja Najświętszej Maryi Panny 22\, Częstochowa\, Śląskie\, 42-202\, Poland
CATEGORIES:Dla dorosłych,Dla młodzieży,Dla seniorów,Prelekcja
ORGANIZER;CN="Biblioteka Publiczna im. dr. W%C5%82adys%C5%82awa Biega%C5%84skiego":MAILTO:sekretariat@biblioteka.czest.pl
END:VEVENT
END:VCALENDAR