BEGIN:VCALENDAR
VERSION:2.0
PRODID:-//Biblioteka Publiczna w Częstochowie - ECPv6.15.20//NONSGML v1.0//EN
CALSCALE:GREGORIAN
METHOD:PUBLISH
X-WR-CALNAME:Biblioteka Publiczna w Częstochowie
X-ORIGINAL-URL:https://biblioteka.czest.pl
X-WR-CALDESC:Wydarzenia dla Biblioteka Publiczna w Częstochowie
REFRESH-INTERVAL;VALUE=DURATION:PT1H
X-Robots-Tag:noindex
X-PUBLISHED-TTL:PT1H
BEGIN:VTIMEZONE
TZID:Europe/Warsaw
BEGIN:DAYLIGHT
TZOFFSETFROM:+0100
TZOFFSETTO:+0200
TZNAME:CEST
DTSTART:20250330T010000
END:DAYLIGHT
BEGIN:STANDARD
TZOFFSETFROM:+0200
TZOFFSETTO:+0100
TZNAME:CET
DTSTART:20251026T010000
END:STANDARD
BEGIN:DAYLIGHT
TZOFFSETFROM:+0100
TZOFFSETTO:+0200
TZNAME:CEST
DTSTART:20260329T010000
END:DAYLIGHT
BEGIN:STANDARD
TZOFFSETFROM:+0200
TZOFFSETTO:+0100
TZNAME:CET
DTSTART:20261025T010000
END:STANDARD
BEGIN:DAYLIGHT
TZOFFSETFROM:+0100
TZOFFSETTO:+0200
TZNAME:CEST
DTSTART:20270328T010000
END:DAYLIGHT
BEGIN:STANDARD
TZOFFSETFROM:+0200
TZOFFSETTO:+0100
TZNAME:CET
DTSTART:20271031T010000
END:STANDARD
END:VTIMEZONE
BEGIN:VEVENT
DTSTART;TZID=Europe/Warsaw:20260428T180000
DTEND;TZID=Europe/Warsaw:20260428T193000
DTSTAMP:20260424T021550
CREATED:20260401T130444Z
LAST-MODIFIED:20260401T130444Z
UID:27301-1777399200-1777404600@biblioteka.czest.pl
SUMMARY:Spotkanie Klubu Książki Fantasy & Science Fiction "Światy (nie)doskonałe"
DESCRIPTION:Zapraszamy na kwietniowe spotkanie! W tym miesiącu sięgamy po „Dzieci czasu” Adriana Tchaikovsky’ego – wielowątkową\, epicką opowieść o przyszłości ludzkości\, granicach nauki i nieoczekiwanej konfrontacji dwóch cywilizacji. \nTo historia podróży ku nowemu początkowi\, w której nadzieja splata się z niepewnością\, a eksperymenty sprzed wieków przynoszą nieoczekiwane konsekwencje. W świecie odległych planet nic nie jest oczywiste\, a pytania o naturę inteligencji i przetrwania nabierają zupełnie nowego znaczenia. \nZachęcamy do lektury\, a następnie do wspólnej dyskusji o powieści! \nWstęp wolny!
URL:https://biblioteka.czest.pl/wydarzenie/spotkanie-klubu-ksiazki-fantasy-science-fiction-swiaty-niedoskonale-2/
LOCATION:Biblioteka Publiczna im. dr Władysława Biegańskiego\, Aleja Najświętszej Maryi Panny 22\, Częstochowa\, Śląskie\, 42-202\, Poland
CATEGORIES:Dla dorosłych,Dla młodzieży,Dla seniorów,Inne wydarzenia
ORGANIZER;CN="Biblioteka Publiczna im. dr. W%C5%82adys%C5%82awa Biega%C5%84skiego":MAILTO:sekretariat@biblioteka.czest.pl
END:VEVENT
END:VCALENDAR