BEGIN:VCALENDAR
VERSION:2.0
PRODID:-//Biblioteka Publiczna w Częstochowie - ECPv6.15.20//NONSGML v1.0//EN
CALSCALE:GREGORIAN
METHOD:PUBLISH
X-WR-CALNAME:Biblioteka Publiczna w Częstochowie
X-ORIGINAL-URL:https://biblioteka.czest.pl
X-WR-CALDESC:Wydarzenia dla Biblioteka Publiczna w Częstochowie
REFRESH-INTERVAL;VALUE=DURATION:PT1H
X-Robots-Tag:noindex
X-PUBLISHED-TTL:PT1H
BEGIN:VTIMEZONE
TZID:Europe/Warsaw
BEGIN:DAYLIGHT
TZOFFSETFROM:+0100
TZOFFSETTO:+0200
TZNAME:CEST
DTSTART:20240331T010000
END:DAYLIGHT
BEGIN:STANDARD
TZOFFSETFROM:+0200
TZOFFSETTO:+0100
TZNAME:CET
DTSTART:20241027T010000
END:STANDARD
BEGIN:DAYLIGHT
TZOFFSETFROM:+0100
TZOFFSETTO:+0200
TZNAME:CEST
DTSTART:20250330T010000
END:DAYLIGHT
BEGIN:STANDARD
TZOFFSETFROM:+0200
TZOFFSETTO:+0100
TZNAME:CET
DTSTART:20251026T010000
END:STANDARD
BEGIN:DAYLIGHT
TZOFFSETFROM:+0100
TZOFFSETTO:+0200
TZNAME:CEST
DTSTART:20260329T010000
END:DAYLIGHT
BEGIN:STANDARD
TZOFFSETFROM:+0200
TZOFFSETTO:+0100
TZNAME:CET
DTSTART:20261025T010000
END:STANDARD
BEGIN:DAYLIGHT
TZOFFSETFROM:+0100
TZOFFSETTO:+0200
TZNAME:CEST
DTSTART:20270328T010000
END:DAYLIGHT
BEGIN:STANDARD
TZOFFSETFROM:+0200
TZOFFSETTO:+0100
TZNAME:CET
DTSTART:20271031T010000
END:STANDARD
END:VTIMEZONE
BEGIN:VEVENT
DTSTART;TZID=Europe/Warsaw:20251129T110000
DTEND;TZID=Europe/Warsaw:20251129T123000
DTSTAMP:20260424T134222
CREATED:20251104T131407Z
LAST-MODIFIED:20251104T131407Z
UID:26588-1764414000-1764419400@biblioteka.czest.pl
SUMMARY:Rodzinne warsztaty: Po co są Święta
DESCRIPTION:Porozmawiamy o tradycjach bożonarodzeniowych i historii Świętego Mikołaja\, a w części warsztatowej wykonamy piękne bombki metodą decoupage. To spotkanie pełne świątecznej atmosfery dla całej rodziny. \nObowiązują wcześniejsze zapisy!
URL:https://biblioteka.czest.pl/wydarzenie/rodzinne-warsztaty-po-co-sa-swieta/
LOCATION:Oddział dla Dzieci i Młodzieży\, Kościuszki 4\, Częstochowa\, Śląskie\, 42-200\, Poland
CATEGORIES:Dla dorosłych,Dla dzieci,Dla młodzieży,Warsztaty
END:VEVENT
BEGIN:VEVENT
DTSTART;TZID=Europe/Warsaw:20251202T160000
DTEND;TZID=Europe/Warsaw:20251202T173000
DTSTAMP:20260424T134222
CREATED:20251202T115701Z
LAST-MODIFIED:20251202T115701Z
UID:26686-1764691200-1764696600@biblioteka.czest.pl
SUMMARY:Warsztaty plastyczne dla dzieci: Świąteczne dzwoneczki
DESCRIPTION:Podczas zajęć plastycznych dzieci będą miały okazję ozdobić dzwoneczki techniką decoupage. \nZajęcia dla dzieci w wieku 6 – 12 lat \nObowiązują wcześniejsze zapisy!
URL:https://biblioteka.czest.pl/wydarzenie/warsztaty-plastyczne-dla-dzieci-swiateczne-dzwoneczki/
LOCATION:Filia nr 18\, Nadrzeczna 46/48\, Częstochowa\, Śląskie\, 42-200\, Poland
CATEGORIES:Dla dzieci,Dla młodzieży,Warsztaty
ORGANIZER;CN="Biblioteka Publiczna im. dr. W%C5%82adys%C5%82awa Biega%C5%84skiego":MAILTO:sekretariat@biblioteka.czest.pl
END:VEVENT
BEGIN:VEVENT
DTSTART;TZID=Europe/Warsaw:20251202T180000
DTEND;TZID=Europe/Warsaw:20251202T190000
DTSTAMP:20260424T134222
CREATED:20251202T120015Z
LAST-MODIFIED:20251202T120015Z
UID:26688-1764698400-1764702000@biblioteka.czest.pl
SUMMARY:Warsztaty: Jazz dla wybrańców?
DESCRIPTION:Jazz potrafi zaczarować każdego – czy to grany na żywo w pubie\, gdzie atmosfera aż pulsuje\, czy w zaciszu domowym\, gdzie ulubiona płyta tworzy nam przytulną\, intymną przestrzeń. Każdy może znaleźć w nim coś dla siebie. \nProwadzi: Kamil Krakowiak \nWstęp wolny!
URL:https://biblioteka.czest.pl/wydarzenie/warsztaty-jazz-dla-wybrancow/
LOCATION:Muzoteka\, Aleja Kościuszki 4\, Częstochowa\, Śląskie\, 42-200\, Poland
CATEGORIES:Dla dorosłych,Dla młodzieży,Dla seniorów,Prelekcja,Wykład
ORGANIZER;CN="Biblioteka Publiczna im. dr. W%C5%82adys%C5%82awa Biega%C5%84skiego":MAILTO:sekretariat@biblioteka.czest.pl
END:VEVENT
BEGIN:VEVENT
DTSTART;TZID=Europe/Warsaw:20251203T160000
DTEND;TZID=Europe/Warsaw:20251203T173000
DTSTAMP:20260424T134222
CREATED:20251202T120133Z
LAST-MODIFIED:20251202T123254Z
UID:26690-1764777600-1764783000@biblioteka.czest.pl
SUMMARY:Warsztaty dla dorosłych: Świąteczne mydełka
DESCRIPTION:Podczas zajęć dużo dowiemy się o ziołach oraz ich zastosowaniu w kosmetykach. Uczestnicy będą mieli możliwość zrobienia swojego własnego naturalnego mydła.\nObowiązują wcześniejsze zapisy!
URL:https://biblioteka.czest.pl/wydarzenie/warsztaty-dla-doroslych-swiateczne-mydelka/
LOCATION:Filia nr 9\, Feliksa Nowowiejskiego 15\, Częstochowa\, Śląskie\, 42-200\, Poland
CATEGORIES:Dla dorosłych,Dla seniorów,Warsztaty
ORGANIZER;CN="Biblioteka Publiczna im. dr. W%C5%82adys%C5%82awa Biega%C5%84skiego":MAILTO:sekretariat@biblioteka.czest.pl
END:VEVENT
BEGIN:VEVENT
DTSTART;TZID=Europe/Warsaw:20251204T160000
DTEND;TZID=Europe/Warsaw:20251204T170000
DTSTAMP:20260424T134222
CREATED:20251202T120321Z
LAST-MODIFIED:20251202T120321Z
UID:26692-1764864000-1764867600@biblioteka.czest.pl
SUMMARY:Warsztaty dla dzieci: Błyszcząca choinka
DESCRIPTION:Na spotkaniu dzieci będą miały okazję wykonać choinkę 3D ze styropianu i drucika kreatywnego. Na zajęciach będzie używany klej na gorąco!\nZajęcia dla dzieci w wieku 8 – 12 lat \nObowiązują wcześniejsze zapisy!
URL:https://biblioteka.czest.pl/wydarzenie/warsztaty-dla-dzieci-blyszczaca-choinka/
LOCATION:Filia nr 6\, Władysława Orkana 56-A\, Częstochowa\, Śląskie\, 42-229\, Poland
CATEGORIES:Dla dzieci,Dla młodzieży,Warsztaty
ORGANIZER;CN="Biblioteka Publiczna im. dr. W%C5%82adys%C5%82awa Biega%C5%84skiego":MAILTO:sekretariat@biblioteka.czest.pl
END:VEVENT
BEGIN:VEVENT
DTSTART;TZID=Europe/Warsaw:20251205T170000
DTEND;TZID=Europe/Warsaw:20251205T183000
DTSTAMP:20260424T134222
CREATED:20251202T121902Z
LAST-MODIFIED:20251202T121902Z
UID:26694-1764954000-1764959400@biblioteka.czest.pl
SUMMARY:Warsztaty dla dorosłych: Zimowa herbatka
DESCRIPTION:Na warsztatach odkrywamy fascynujący świat herbat – poznajemy ich rodzaje\, historię\, zioła do tworzenia aromatycznych mieszanek. Własnoręcznie skomponujemy herbatę do zabrania do domu. Podczas spotkania będziemy delektować się pysznym naparem i sprawdzimy\, czy… herbatą da się namalować obraz.\nObowiązują wcześniejsze zapisy!
URL:https://biblioteka.czest.pl/wydarzenie/warsztaty-dla-doroslych-zimowa-herbatka/
LOCATION:Muzoteka\, Aleja Kościuszki 4\, Częstochowa\, Śląskie\, 42-200\, Poland
CATEGORIES:Dla dorosłych,Dla seniorów,Warsztaty
ORGANIZER;CN="Biblioteka Publiczna im. dr. W%C5%82adys%C5%82awa Biega%C5%84skiego":MAILTO:sekretariat@biblioteka.czest.pl
END:VEVENT
BEGIN:VEVENT
DTSTART;TZID=Europe/Warsaw:20251206T110000
DTEND;TZID=Europe/Warsaw:20251206T120000
DTSTAMP:20260424T134222
CREATED:20251202T122033Z
LAST-MODIFIED:20251202T122033Z
UID:26696-1765018800-1765022400@biblioteka.czest.pl
SUMMARY:Rodzinne warsztaty: Błyszcząca choinka
DESCRIPTION:Na spotkaniu dzieci będą miały okazję wykonać choinkę 3D ze styropianu i drucika kreatywnego. Na zajęciach będzie używany klej na gorąco!\nZajęcia dla rodziców z dziećmi w wieku 6 – 12 lat \nObowiązują wcześniejsze zapisy!
URL:https://biblioteka.czest.pl/wydarzenie/rodzinne-warsztaty-blyszczaca-choinka/
LOCATION:Oddział dla Dzieci i Młodzieży\, Kościuszki 4\, Częstochowa\, Śląskie\, 42-200\, Poland
CATEGORIES:Dla dzieci,Dla młodzieży,Warsztaty
ORGANIZER;CN="Biblioteka Publiczna im. dr. W%C5%82adys%C5%82awa Biega%C5%84skiego":MAILTO:sekretariat@biblioteka.czest.pl
END:VEVENT
BEGIN:VEVENT
DTSTART;TZID=Europe/Warsaw:20251209T160000
DTEND;TZID=Europe/Warsaw:20251209T170000
DTSTAMP:20260424T134222
CREATED:20251202T122304Z
LAST-MODIFIED:20251202T122304Z
UID:26698-1765296000-1765299600@biblioteka.czest.pl
SUMMARY:Rodzinne warsztaty: Muminki w teatrze
DESCRIPTION:Razem z Teatrem nieoczywistym zapraszamy na zajęcia teatralne inspirowane lubianymi przez dzieci i dorosłych Muminkami. Zajęcia odbędą się z okazji 80. urodzin serii książek o Muminkach.\nObowiązują wcześniejsze zapisy!
URL:https://biblioteka.czest.pl/wydarzenie/rodzinne-warsztaty-muminki-w-teatrze/
LOCATION:Filia nr 9\, Feliksa Nowowiejskiego 15\, Częstochowa\, Śląskie\, 42-200\, Poland
CATEGORIES:Dla dorosłych,Dla dzieci,Dla młodzieży,Warsztaty
ORGANIZER;CN="Biblioteka Publiczna im. dr. W%C5%82adys%C5%82awa Biega%C5%84skiego":MAILTO:sekretariat@biblioteka.czest.pl
END:VEVENT
BEGIN:VEVENT
DTSTART;TZID=Europe/Warsaw:20251210T160000
DTEND;TZID=Europe/Warsaw:20251210T170000
DTSTAMP:20260424T134222
CREATED:20251202T122454Z
LAST-MODIFIED:20251202T122454Z
UID:26700-1765382400-1765386000@biblioteka.czest.pl
SUMMARY:Rodzinne warsztaty: Wieniec świąteczny
DESCRIPTION:Zajęcia plastyczne\, podczas których rodzice z dziećmi stworzą samodzielnie dekoracje świąteczną. \nZajęcia dla rodziców z dziećmi w wieku 6 – 12 lat \nObowiązują wcześniejsze zapisy!
URL:https://biblioteka.czest.pl/wydarzenie/rodzinne-warsztaty-wieniec-swiateczny/
LOCATION:Filia nr 20\, Witolda Gombrowicza 15\, Częstochowa\, Śląskie\, 42-200\, Poland
CATEGORIES:Dla dorosłych,Dla dzieci,Dla młodzieży,Warsztaty,Zajęcia plastyczne
ORGANIZER;CN="Biblioteka Publiczna im. dr. W%C5%82adys%C5%82awa Biega%C5%84skiego":MAILTO:sekretariat@biblioteka.czest.pl
END:VEVENT
BEGIN:VEVENT
DTSTART;TZID=Europe/Warsaw:20251210T180000
DTEND;TZID=Europe/Warsaw:20251210T200000
DTSTAMP:20260424T134222
CREATED:20251202T122640Z
LAST-MODIFIED:20251202T122640Z
UID:26702-1765389600-1765396800@biblioteka.czest.pl
SUMMARY:Warsztaty dla dorosłych: Jak zrozumieć nastolatka
DESCRIPTION:Na spotkaniu skupimy się na poprawie komunikacji z dziećmi\, budowaniu więzi i radzeniu sobie z emocjami. Psycholog Beata Bielecka pokaże\, jak reagować na trudne sytuacje w relacji z nastolatkiem. \nObowiązują wcześniejsze zapisy!
URL:https://biblioteka.czest.pl/wydarzenie/warsztaty-dla-doroslych-jak-zrozumiec-nastolatka/
LOCATION:Filia nr 9\, Feliksa Nowowiejskiego 15\, Częstochowa\, Śląskie\, 42-200\, Poland
CATEGORIES:Dla dorosłych,Prelekcja,Warsztaty,Wykład
ORGANIZER;CN="Biblioteka Publiczna im. dr. W%C5%82adys%C5%82awa Biega%C5%84skiego":MAILTO:sekretariat@biblioteka.czest.pl
END:VEVENT
BEGIN:VEVENT
DTSTART;TZID=Europe/Warsaw:20251211T160000
DTEND;TZID=Europe/Warsaw:20251211T170000
DTSTAMP:20260424T134222
CREATED:20251202T122821Z
LAST-MODIFIED:20251202T122821Z
UID:26704-1765468800-1765472400@biblioteka.czest.pl
SUMMARY:Warsztaty plastyczne dla dzieci: Świąteczne dzwoneczki
DESCRIPTION:Podczas zajęć plastycznych dzieci będą miały okazję ozdobić dzwoneczki techniką decoupage. \nZajęcia dla dzieci w wieku 6 – 12 lat \nObowiązują wcześniejsze zapisy!
URL:https://biblioteka.czest.pl/wydarzenie/warsztaty-plastyczne-dla-dzieci-swiateczne-dzwoneczki-2/
LOCATION:Filia nr 8\, Księżycowa 2\, Częstochowa\, Śląskie\, 42-200\, Poland
CATEGORIES:Dla dzieci,Dla młodzieży,Warsztaty,Zajęcia plastyczne
ORGANIZER;CN="Biblioteka Publiczna im. dr. W%C5%82adys%C5%82awa Biega%C5%84skiego":MAILTO:sekretariat@biblioteka.czest.pl
END:VEVENT
BEGIN:VEVENT
DTSTART;TZID=Europe/Warsaw:20251212T160000
DTEND;TZID=Europe/Warsaw:20251212T170000
DTSTAMP:20260424T134222
CREATED:20251202T122952Z
LAST-MODIFIED:20251202T122952Z
UID:26706-1765555200-1765558800@biblioteka.czest.pl
SUMMARY:Warsztaty dla dzieci: Bombka choinkowa
DESCRIPTION:Na zajęciach dzieci będą miały okazję stworzyć własną bombkę na choinkę techniką decoupage.\nZajęcia dla dzieci w wieku 8 – 12 lat \nObowiązują wcześniejsze zapisy!
URL:https://biblioteka.czest.pl/wydarzenie/warsztaty-dla-dzieci-bombka-choinkowa/
LOCATION:Filia nr 18\, Nadrzeczna 46/48\, Częstochowa\, Śląskie\, 42-200\, Poland
CATEGORIES:Dla dzieci,Dla młodzieży,Warsztaty,Zajęcia plastyczne
ORGANIZER;CN="Biblioteka Publiczna im. dr. W%C5%82adys%C5%82awa Biega%C5%84skiego":MAILTO:sekretariat@biblioteka.czest.pl
END:VEVENT
BEGIN:VEVENT
DTSTART;TZID=Europe/Warsaw:20251213T120000
DTEND;TZID=Europe/Warsaw:20251213T133000
DTSTAMP:20260424T134222
CREATED:20251202T123113Z
LAST-MODIFIED:20251202T123113Z
UID:26708-1765627200-1765632600@biblioteka.czest.pl
SUMMARY:Warsztaty dla dorosłych: Drewniana bombka
DESCRIPTION:Podczas świątecznych warsztatów odkrywamy tradycje Bożego Narodzenia – opowiadamy historię Świętego Mikołaja\, zastanawiamy się\, skąd wzięła się choinka i zagłębiamy się w magię świątecznych zwyczajów. W części praktycznej tworzymy ozdobę na choinkę na plastrze drewna techniką decoupage. Po zajęciach zabierzemy do domu własnoręcznie wykonany świąteczny stroik. \nObowiązują wcześniejsze zapisy!
URL:https://biblioteka.czest.pl/wydarzenie/warsztaty-dla-doroslych-drewniana-bombka/
LOCATION:Muzoteka\, Aleja Kościuszki 4\, Częstochowa\, Śląskie\, 42-200\, Poland
CATEGORIES:Dla dorosłych,Dla seniorów,Warsztaty,Zajęcia plastyczne
ORGANIZER;CN="Biblioteka Publiczna im. dr. W%C5%82adys%C5%82awa Biega%C5%84skiego":MAILTO:sekretariat@biblioteka.czest.pl
END:VEVENT
BEGIN:VEVENT
DTSTART;TZID=Europe/Warsaw:20260114T150000
DTEND;TZID=Europe/Warsaw:20260114T160000
DTSTAMP:20260424T134222
CREATED:20260109T082359Z
LAST-MODIFIED:20260109T082359Z
UID:26779-1768402800-1768406400@biblioteka.czest.pl
SUMMARY:Mydełka dla Babć i Dziadków
DESCRIPTION:Zapraszamy Babcie i Dziadków wraz z wnukami na warsztaty rękodzielnicze\, podczas których wspólnie wykonamy mydełka z naturalnych składników. \nObowiązują wcześniejsze zapisy!
URL:https://biblioteka.czest.pl/wydarzenie/mydelka-dla-babc-i-dziadkow/
LOCATION:Filia nr 8\, Księżycowa 2\, Częstochowa\, Śląskie\, 42-200\, Poland
CATEGORIES:Dla dorosłych,Dla dzieci,Dla seniorów,Warsztaty
ORGANIZER;CN="Biblioteka Publiczna im. dr. W%C5%82adys%C5%82awa Biega%C5%84skiego":MAILTO:sekretariat@biblioteka.czest.pl
END:VEVENT
BEGIN:VEVENT
DTSTART;TZID=Europe/Warsaw:20260115T180000
DTEND;TZID=Europe/Warsaw:20260115T190000
DTSTAMP:20260424T134222
CREATED:20260109T082602Z
LAST-MODIFIED:20260109T082602Z
UID:26781-1768500000-1768503600@biblioteka.czest.pl
SUMMARY:Fenomen Ozzy’ego Osbourne’a – bunt\, skandal i muzyka
DESCRIPTION:POGADUCHY W MUZOTECE \nOzzy Osbourne we wszystko angażował się na 300% — od muzyki\, po burzliwe życie poza sceną. Nie uznawał półśrodków. Samouk\, który stał się legendą światowego rocka i nigdy nie oglądał się wstecz. O tych\, jak i o wielu innych aspektach jego barwnej biografii\, porozmawiamy podczas najbliższej prelekcji. \nProwadzący: Kamil Krakowiak \nWstęp wolny!
URL:https://biblioteka.czest.pl/wydarzenie/fenomen-ozzyego-osbournea-bunt-skandal-i-muzyka/
LOCATION:Muzoteka\, Aleja Kościuszki 4\, Częstochowa\, Śląskie\, 42-200\, Poland
CATEGORIES:Dla dorosłych,Dla młodzieży,Dla seniorów,Prelekcja,Wykład
ORGANIZER;CN="Biblioteka Publiczna im. dr. W%C5%82adys%C5%82awa Biega%C5%84skiego":MAILTO:sekretariat@biblioteka.czest.pl
END:VEVENT
BEGIN:VEVENT
DTSTART;TZID=Europe/Warsaw:20260116T150000
DTEND;TZID=Europe/Warsaw:20260116T160000
DTSTAMP:20260424T134222
CREATED:20260109T082759Z
LAST-MODIFIED:20260109T082759Z
UID:26783-1768575600-1768579200@biblioteka.czest.pl
SUMMARY:Warsztaty dla dorosłych i seniorów: Naturalne mydła
DESCRIPTION:Z okazji zbliżającego się Dnia Babci i Dnia Dziadka zapraszamy na warsztaty rękodzielnicze\, na których wykonamy naturalne mydła glicerynowe z masłem shea. \nObowiązują wcześniejsze zapisy!
URL:https://biblioteka.czest.pl/wydarzenie/warsztaty-dla-doroslych-i-seniorow-naturalne-mydla/
LOCATION:Filia nr 6\, Władysława Orkana 56-A\, Częstochowa\, Śląskie\, 42-229\, Poland
CATEGORIES:Dla dorosłych,Dla seniorów,Warsztaty
ORGANIZER;CN="Biblioteka Publiczna im. dr. W%C5%82adys%C5%82awa Biega%C5%84skiego":MAILTO:sekretariat@biblioteka.czest.pl
END:VEVENT
BEGIN:VEVENT
DTSTART;TZID=Europe/Warsaw:20260206T173000
DTEND;TZID=Europe/Warsaw:20260206T190000
DTSTAMP:20260424T134222
CREATED:20260204T123424Z
LAST-MODIFIED:20260204T123424Z
UID:26850-1770399000-1770404400@biblioteka.czest.pl
SUMMARY:Spotkanie autorskie z Grzegorzem Kopcem
DESCRIPTION:Podczas spotkania autor opowie o swojej najnowszej powieści „Trzeci gatunek” (2025) — thrillerze z elementami horroru\, w którym granice tożsamości\, wiary i natury człowieka zostają wystawione na próbę. To historia brutalnego pobicia\, tajemniczej przemiany i snów prowadzących ku niepokojącej prawdzie o pochodzeniu życia oraz fundamentach religii. \nProwadzi: Mariusz Srebny \nWstęp wolny!
URL:https://biblioteka.czest.pl/wydarzenie/spotkanie-autorskie-z-grzegorzem-kopcem/
LOCATION:Filia nr 6\, Władysława Orkana 56-A\, Częstochowa\, Śląskie\, 42-229\, Poland
CATEGORIES:Dla dorosłych,Dla seniorów,Spotkania autorskie
ORGANIZER;CN="Biblioteka Publiczna im. dr. W%C5%82adys%C5%82awa Biega%C5%84skiego":MAILTO:sekretariat@biblioteka.czest.pl
END:VEVENT
BEGIN:VEVENT
DTSTART;TZID=Europe/Warsaw:20260212T163000
DTEND;TZID=Europe/Warsaw:20260212T180000
DTSTAMP:20260424T134222
CREATED:20260204T123652Z
LAST-MODIFIED:20260204T123652Z
UID:26853-1770913800-1770919200@biblioteka.czest.pl
SUMMARY:Wieczór literacki z Klubem „Złota Jesień”
DESCRIPTION:Międzypokoleniowe spotkanie z literaturą\, podczas którego można posłuchać poetyckich utworów\, podzielić się wrażeniami\, a także zaprezentować własną twórczość. Na zakończenie uczestnicy wybiorą zdobywcę tytułu Czarodziej Wieczoru.
URL:https://biblioteka.czest.pl/wydarzenie/wieczor-literacki-z-klubem-zlota-jesien/
LOCATION:Filia nr 7\, Aleja Pokoju 15/17\, Częstochowa\, Śląskie\, 42-207\, Poland
CATEGORIES:Dla dorosłych,Dla młodzieży,Dla seniorów,Inne wydarzenia,Konkurs,Spotkania autorskie
ORGANIZER;CN="Biblioteka Publiczna im. dr. W%C5%82adys%C5%82awa Biega%C5%84skiego":MAILTO:sekretariat@biblioteka.czest.pl
END:VEVENT
BEGIN:VEVENT
DTSTART;TZID=Europe/Warsaw:20260216T110000
DTEND;TZID=Europe/Warsaw:20260216T120000
DTSTAMP:20260424T134222
CREATED:20260204T123842Z
LAST-MODIFIED:20260204T123842Z
UID:26855-1771239600-1771243200@biblioteka.czest.pl
SUMMARY:Warsztaty dla dzieci: Karnawałowe maski
DESCRIPTION:Uczestnicy będą mieli możliwość zaprojektowania i zrobienia samodzielnie maski na imprezę karnawałową. \nZajęcia dla dzieci od 6 lat\nObowiązują wcześniejsze zapisy!
URL:https://biblioteka.czest.pl/wydarzenie/warsztaty-dla-dzieci-karnawalowe-maski/
LOCATION:Filia nr 20\, Witolda Gombrowicza 15\, Częstochowa\, Śląskie\, 42-200\, Poland
CATEGORIES:Dla dzieci,Zajęcia plastyczne
ORGANIZER;CN="Biblioteka Publiczna im. dr. W%C5%82adys%C5%82awa Biega%C5%84skiego":MAILTO:sekretariat@biblioteka.czest.pl
END:VEVENT
BEGIN:VEVENT
DTSTART;TZID=Europe/Warsaw:20260216T110000
DTEND;TZID=Europe/Warsaw:20260216T120000
DTSTAMP:20260424T134222
CREATED:20260210T084943Z
LAST-MODIFIED:20260210T084943Z
UID:26892-1771239600-1771243200@biblioteka.czest.pl
SUMMARY:Warsztaty dla dzieci: Herbaciany Raj
DESCRIPTION:Kreatywne warsztaty dla dzieci\, podczas których uczestnicy poznają zapachy i smaki natury. Dzieci skomponują własne mieszanki ziołowo-owocowe\, które zabiorą ze sobą do domu. \nZajęcia dla dzieci w wieku 6–10 lat\nObowiązują wcześniejsze zapisy.
URL:https://biblioteka.czest.pl/wydarzenie/warsztaty-dla-dzieci-herbaciany-raj/
LOCATION:Filia nr 10\, Kazimierza Michałowskiego 20\, Częstochowa\, Śląskie\, 42-200\, Poland
CATEGORIES:Dla dzieci,Warsztaty
ORGANIZER;CN="Biblioteka Publiczna im. dr. W%C5%82adys%C5%82awa Biega%C5%84skiego":MAILTO:sekretariat@biblioteka.czest.pl
END:VEVENT
BEGIN:VEVENT
DTSTART;TZID=Europe/Warsaw:20260217T110000
DTEND;TZID=Europe/Warsaw:20260217T120000
DTSTAMP:20260424T134222
CREATED:20260204T124058Z
LAST-MODIFIED:20260204T124058Z
UID:26857-1771326000-1771329600@biblioteka.czest.pl
SUMMARY:Warsztaty dla dzieci: Koci kolaż
DESCRIPTION:Z okazji Dnia Kota dzieci zrobią techniką kolażu obraz przedstawiający swojego ulubionego kota z książek. \nZajęcia dla dzieci od 7 lat\nObowiązują wcześniejsze zapisy!
URL:https://biblioteka.czest.pl/wydarzenie/warsztaty-dla-dzieci-koci-kolaz/
LOCATION:Filia nr 1\, Aleja Niepodległości 11\, Częstochowa\, Śląskie\, 42-216\, Poland
CATEGORIES:Dla dzieci,Zajęcia plastyczne
ORGANIZER;CN="Biblioteka Publiczna im. dr. W%C5%82adys%C5%82awa Biega%C5%84skiego":MAILTO:sekretariat@biblioteka.czest.pl
END:VEVENT
BEGIN:VEVENT
DTSTART;TZID=Europe/Warsaw:20260218T110000
DTEND;TZID=Europe/Warsaw:20260218T123000
DTSTAMP:20260424T134222
CREATED:20260204T124318Z
LAST-MODIFIED:20260204T124318Z
UID:26859-1771412400-1771417800@biblioteka.czest.pl
SUMMARY:VI Edycja Miniturnieju Gier Planszowych
DESCRIPTION:Kolejny turniej dla fanów gier planszowych w Bibliotece! Zmierz się z innymi graczami i walcz o tytuł mistrza! \nTurniej dla dzieci od 7 do 12 lat\nObowiązują wcześniejsze zapisy!
URL:https://biblioteka.czest.pl/wydarzenie/vi-edycja-miniturnieju-gier-planszowych/
LOCATION:Oddział dla Dzieci i Młodzieży\, Kościuszki 4\, Częstochowa\, Śląskie\, 42-200\, Poland
CATEGORIES:Dla dzieci,Konkurs
ORGANIZER;CN="Biblioteka Publiczna im. dr. W%C5%82adys%C5%82awa Biega%C5%84skiego":MAILTO:sekretariat@biblioteka.czest.pl
END:VEVENT
BEGIN:VEVENT
DTSTART;TZID=Europe/Warsaw:20260218T130000
DTEND;TZID=Europe/Warsaw:20260218T140000
DTSTAMP:20260424T134222
CREATED:20260204T124512Z
LAST-MODIFIED:20260204T124512Z
UID:26861-1771419600-1771423200@biblioteka.czest.pl
SUMMARY:Warsztaty dla dzieci: Kolorowy brelok
DESCRIPTION:Uczestnicy będą mieli okazję zrobić modny dodatek do torby lub plecaka. Samodzielnie zaprojektowane i wykonane breloczki będą jedyne w swoim rodzaju. \nZajęcia dla dzieci od 7 lat\nObowiązują wcześniejsze zapisy!
URL:https://biblioteka.czest.pl/wydarzenie/warsztaty-dla-dzieci-kolorowy-brelok/
LOCATION:Filia nr 6\, Władysława Orkana 56-A\, Częstochowa\, Śląskie\, 42-229\, Poland
CATEGORIES:Dla dzieci,Zajęcia plastyczne
ORGANIZER;CN="Biblioteka Publiczna im. dr. W%C5%82adys%C5%82awa Biega%C5%84skiego":MAILTO:sekretariat@biblioteka.czest.pl
END:VEVENT
BEGIN:VEVENT
DTSTART;TZID=Europe/Warsaw:20260219T120000
DTEND;TZID=Europe/Warsaw:20260219T130000
DTSTAMP:20260424T134222
CREATED:20260204T124646Z
LAST-MODIFIED:20260204T124646Z
UID:26863-1771502400-1771506000@biblioteka.czest.pl
SUMMARY:Warsztaty dla dzieci: Zimowe eksperymenty z akwarelami
DESCRIPTION:Podczas warsztatów dzieci nauczą się jak\, używając akwareli\, świecy i soli\, można stworzyć magiczny\, zimowy pejzaż. \nZajęcia dla dzieci od 6 do 12 lat\nObowiązują wcześniejsze zapisy!
URL:https://biblioteka.czest.pl/wydarzenie/warsztaty-dla-dzieci-zimowe-eksperymenty-z-akwarelami/
LOCATION:Filia nr 18\, Nadrzeczna 46/48\, Częstochowa\, Śląskie\, 42-200\, Poland
CATEGORIES:Dla dzieci,Zajęcia plastyczne
ORGANIZER;CN="Biblioteka Publiczna im. dr. W%C5%82adys%C5%82awa Biega%C5%84skiego":MAILTO:sekretariat@biblioteka.czest.pl
END:VEVENT
BEGIN:VEVENT
DTSTART;TZID=Europe/Warsaw:20260219T180000
DTEND;TZID=Europe/Warsaw:20260219T193000
DTSTAMP:20260424T134222
CREATED:20260204T124852Z
LAST-MODIFIED:20260204T124852Z
UID:26865-1771524000-1771529400@biblioteka.czest.pl
SUMMARY:POGADUCHY W MUZOTECE
DESCRIPTION:Zespół Queen vs. Bohemia Rhapsody – rzeczywistość a film \nPrzyjrzymy się faktom\, uproszczeniom i różnicom między rzeczywistością a ekranową wizją legendy rocka.  \n\nProwadzi: Kamil Krakowiak \nWstęp wolny
URL:https://biblioteka.czest.pl/wydarzenie/pogaduchy-w-muzotece/
LOCATION:Muzoteka\, Aleja Kościuszki 4\, Częstochowa\, Śląskie\, 42-200\, Poland
CATEGORIES:Dla dorosłych,Dla młodzieży,Dla seniorów,Prelekcja,Wykład
ORGANIZER;CN="Biblioteka Publiczna im. dr. W%C5%82adys%C5%82awa Biega%C5%84skiego":MAILTO:sekretariat@biblioteka.czest.pl
END:VEVENT
BEGIN:VEVENT
DTSTART;TZID=Europe/Warsaw:20260220T120000
DTEND;TZID=Europe/Warsaw:20260220T133000
DTSTAMP:20260424T134222
CREATED:20260204T125039Z
LAST-MODIFIED:20260204T125039Z
UID:26867-1771588800-1771594200@biblioteka.czest.pl
SUMMARY:Warsztaty dla dzieci: Dzikie zapylacze
DESCRIPTION:Uczestnicy poznają świat pszczółek i innych pożytecznych owadów. Wspólnie dowiemy się\, dlaczego są tak ważne oraz zbudujemy domki\, które pomogą im bezpiecznie zamieszkać w naszym otoczeniu.  \nTurniej dla dzieci od 6 do 12 lat\nObowiązują wcześniejsze zapisy!
URL:https://biblioteka.czest.pl/wydarzenie/warsztaty-dla-dzieci-dzikie-zapylacze/
LOCATION:Oddział dla Dzieci i Młodzieży\, Kościuszki 4\, Częstochowa\, Śląskie\, 42-200\, Poland
CATEGORIES:Dla dzieci,Zajęcia plastyczne
ORGANIZER;CN="Biblioteka Publiczna im. dr. W%C5%82adys%C5%82awa Biega%C5%84skiego":MAILTO:sekretariat@biblioteka.czest.pl
END:VEVENT
BEGIN:VEVENT
DTSTART;TZID=Europe/Warsaw:20260223T110000
DTEND;TZID=Europe/Warsaw:20260223T120000
DTSTAMP:20260424T134222
CREATED:20260204T125643Z
LAST-MODIFIED:20260204T125643Z
UID:26870-1771844400-1771848000@biblioteka.czest.pl
SUMMARY:Warsztaty dla dzieci: Dekoracje na ścianę
DESCRIPTION:Dzieci zrobią ozdobę do swojego pokoju w kształcie swojego ulubionego zwierzaka. Użyjemy do tego patyczków\, dzięki którym wyjdą geometryczne ozdoby naścienne.  \nZajęcia dla dzieci od 10 lat\nObowiązują wcześniejsze zapisy!
URL:https://biblioteka.czest.pl/wydarzenie/warsztaty-dla-dzieci-dekoracje-na-sciane/
LOCATION:Filia nr 20\, Witolda Gombrowicza 15\, Częstochowa\, Śląskie\, 42-200\, Poland
CATEGORIES:Dla dzieci,Warsztaty
ORGANIZER;CN="Biblioteka Publiczna im. dr. W%C5%82adys%C5%82awa Biega%C5%84skiego":MAILTO:sekretariat@biblioteka.czest.pl
END:VEVENT
BEGIN:VEVENT
DTSTART;TZID=Europe/Warsaw:20260224T110000
DTEND;TZID=Europe/Warsaw:20260224T120000
DTSTAMP:20260424T134222
CREATED:20260204T125948Z
LAST-MODIFIED:20260204T130017Z
UID:26872-1771930800-1771934400@biblioteka.czest.pl
SUMMARY:Warsztaty dla dzieci: Modna biżuteria
DESCRIPTION:Uczestnicy warsztatów wykonają przy użyciu modeliny\, biżuterię dla siebie lub swoich bliskich. Będą mogli zrobić w swoich ulubionych kolorach i kształtach bransoletki\, kolczyki lub pierścionki.  \nZajęcia dla dzieci od 7 do 12 lat\nObowiązują wcześniejsze zapisy!
URL:https://biblioteka.czest.pl/wydarzenie/warsztaty-dla-dzieci-modna-bizuteria/
LOCATION:Filia nr 8\, Księżycowa 2\, Częstochowa\, Śląskie\, 42-200\, Poland
CATEGORIES:Warsztaty,Zajęcia plastyczne
ORGANIZER;CN="Biblioteka Publiczna im. dr. W%C5%82adys%C5%82awa Biega%C5%84skiego":MAILTO:sekretariat@biblioteka.czest.pl
END:VEVENT
BEGIN:VEVENT
DTSTART;TZID=Europe/Warsaw:20260224T180000
DTEND;TZID=Europe/Warsaw:20260224T193000
DTSTAMP:20260424T134222
CREATED:20260212T092647Z
LAST-MODIFIED:20260212T092647Z
UID:26899-1771956000-1771961400@biblioteka.czest.pl
SUMMARY:Klubu Książki Fantasy „Miecze\, mrok & magia”
DESCRIPTION:Czytamy: „Mickey 7” – Edward Ashton \nZapraszamy na lutowe spotkanie\, które oficjalnie zamknie listę lektur wybranych na 2025 rok. Spotkamy się w po raz pierwszy w nowym miejscu – Bibliotece Publicznej im. dr. Władysława Biegańskiego. Jak wiemy\, koniec bywa jednocześnie początkiem\, dlatego podczas spotkania nie tylko porozmawiamy o powieści „Mickey 7” Edwarda Ashtona\, ale także wspólnie ustalimy listę lektur na 2026 rok. Zapraszamy wszystkich\, którzy chcą podyskutować o książce. \nWstęp wolny!
URL:https://biblioteka.czest.pl/wydarzenie/klubu-ksiazki-fantasy-miecze-mrok-magia/
LOCATION:Biblioteka Publiczna im. dr Władysława Biegańskiego\, Aleja Najświętszej Maryi Panny 22\, Częstochowa\, Śląskie\, 42-202\, Poland
CATEGORIES:Dla dorosłych,Inne wydarzenia,Prelekcja,Wykład
ORGANIZER;CN="Biblioteka Publiczna im. dr. W%C5%82adys%C5%82awa Biega%C5%84skiego":MAILTO:sekretariat@biblioteka.czest.pl
END:VEVENT
BEGIN:VEVENT
DTSTART;TZID=Europe/Warsaw:20260225T110000
DTEND;TZID=Europe/Warsaw:20260225T120000
DTSTAMP:20260424T134222
CREATED:20260204T130250Z
LAST-MODIFIED:20260204T130250Z
UID:26875-1772017200-1772020800@biblioteka.czest.pl
SUMMARY:Warsztaty dla dzieci: Diamentowe zakładki
DESCRIPTION:Dla wielbicieli malowania diamentami mamy warsztaty z robienia zakładek tą techniką. \nZajęcia dla dzieci od 10 lat\nObowiązują wcześniejsze zapisy!
URL:https://biblioteka.czest.pl/wydarzenie/warsztaty-dla-dzieci-diamentowe-zakladki/
LOCATION:Filia nr 3\, Ułańska 5/7\, Częstochowa\, Śląskie\, 42-202\, Poland
CATEGORIES:Dla dzieci,Warsztaty,Zajęcia plastyczne
ORGANIZER;CN="Biblioteka Publiczna im. dr. W%C5%82adys%C5%82awa Biega%C5%84skiego":MAILTO:sekretariat@biblioteka.czest.pl
END:VEVENT
END:VCALENDAR