BEGIN:VCALENDAR
VERSION:2.0
PRODID:-//Biblioteka Publiczna w Częstochowie - ECPv6.15.20//NONSGML v1.0//EN
CALSCALE:GREGORIAN
METHOD:PUBLISH
X-WR-CALNAME:Biblioteka Publiczna w Częstochowie
X-ORIGINAL-URL:https://biblioteka.czest.pl
X-WR-CALDESC:Wydarzenia dla Biblioteka Publiczna w Częstochowie
REFRESH-INTERVAL;VALUE=DURATION:PT1H
X-Robots-Tag:noindex
X-PUBLISHED-TTL:PT1H
BEGIN:VTIMEZONE
TZID:Europe/Warsaw
BEGIN:DAYLIGHT
TZOFFSETFROM:+0100
TZOFFSETTO:+0200
TZNAME:CEST
DTSTART:20250330T010000
END:DAYLIGHT
BEGIN:STANDARD
TZOFFSETFROM:+0200
TZOFFSETTO:+0100
TZNAME:CET
DTSTART:20251026T010000
END:STANDARD
BEGIN:DAYLIGHT
TZOFFSETFROM:+0100
TZOFFSETTO:+0200
TZNAME:CEST
DTSTART:20260329T010000
END:DAYLIGHT
BEGIN:STANDARD
TZOFFSETFROM:+0200
TZOFFSETTO:+0100
TZNAME:CET
DTSTART:20261025T010000
END:STANDARD
BEGIN:DAYLIGHT
TZOFFSETFROM:+0100
TZOFFSETTO:+0200
TZNAME:CEST
DTSTART:20270328T010000
END:DAYLIGHT
BEGIN:STANDARD
TZOFFSETFROM:+0200
TZOFFSETTO:+0100
TZNAME:CET
DTSTART:20271031T010000
END:STANDARD
END:VTIMEZONE
BEGIN:VEVENT
DTSTART;TZID=Europe/Warsaw:20260304T180000
DTEND;TZID=Europe/Warsaw:20260304T190000
DTSTAMP:20260424T021729
CREATED:20260304T130735Z
LAST-MODIFIED:20260304T130735Z
UID:27093-1772647200-1772650800@biblioteka.czest.pl
SUMMARY:Rok Andrzeja Wajdy -  Życie zapisane w filmie
DESCRIPTION:Z okazji 100. rocznicy urodzin Andrzeja Wajdy zapraszamy na wyjątkowy wieczór poświęcony życiu i twórczości jednego z najwybitniejszych reżyserów w historii polskiej kinematografii. Spotkanie będzie okazją do powrotu do filmów\, które kształtowały pokolenia widzów i do dziś pozostają poruszające oraz aktualne. O życiu i artystycznej drodze reżysera opowie Tadeusz Piersiak – dziennikarz\, organizator wielu działań kulturalnych i wieloletni szef instytucji kultury w Częstochowa. \nW rozmowie udział wezmą także Krzysztof Kasprzak – twórca licznych filmów dokumentalnych o Częstochowie – oraz Jacek Tomczyk\, założyciel i prezes Towarzystwa Genealogicznego Ziemi Częstochowskiej. Goście podzielą się wspomnieniami\, refleksjami o twórczości reżysera oraz opowiedzą o jego związkach z Częstochową. \nSpotkanie poprzedza projekcję filmu „Popiół i diament” – 07.03.2026 (sobota) o godz. 16:15 w Kino Studyjne OKF Iluzja. Seansem tym OKF rozpocznie przegląd: „WAJDA: re- wizje. Przegląd filmów Andrzeja Wajdy w 100. rocznicę urodzin” \nWstęp wolny!
URL:https://biblioteka.czest.pl/wydarzenie/rok-andrzeja-wajdy-zycie-zapisane-w-filmie/
LOCATION:Biblioteka Publiczna im. dr Władysława Biegańskiego\, Aleja Najświętszej Maryi Panny 22\, Częstochowa\, Śląskie\, 42-202\, Poland
CATEGORIES:Dla dorosłych,Dla młodzieży,Dla seniorów,Prelekcja,Wykład
ORGANIZER;CN="Biblioteka Publiczna im. dr. W%C5%82adys%C5%82awa Biega%C5%84skiego":MAILTO:sekretariat@biblioteka.czest.pl
END:VEVENT
BEGIN:VEVENT
DTSTART;TZID=Europe/Warsaw:20260305T080000
DTEND;TZID=Europe/Warsaw:20260305T170000
DTSTAMP:20260424T021729
CREATED:20260305T084725Z
LAST-MODIFIED:20260305T084725Z
UID:27122-1772697600-1772730000@biblioteka.czest.pl
SUMMARY:Warsztaty dla młodzieży i dorosłych: Jak zacząć pisać dziennik osobisty
DESCRIPTION:Zapraszamy na wyjątkowe warsztaty pisarskie z dziennikarką Karoliną Sulej\, podczas których dowiemy się\, jak zacząć prowadzić własny dziennik.Pisanie dziennika przynosi wiele korzyści – pomaga lepiej zrozumieć siebie\, porządkować myśli i rozwijać kreatywność. Podczas spotkania Karolina Sulej podzieli się praktycznymi wskazówkami i inspiracjami\, dzięki którym pisanie stanie się naturalnym i przyjemnym elementem codzienności.\n\n\n\n\n\n\nZajęcia od 16 lat\nObowiązują wcześniejsze zapisy!
URL:https://biblioteka.czest.pl/wydarzenie/warsztaty-dla-mlodziezy-i-doroslych-jak-zaczac-pisac-dziennik-osobisty/
LOCATION:Oddział dla Dzieci i Młodzieży\, Kościuszki 4\, Częstochowa\, Śląskie\, 42-200\, Poland
CATEGORIES:Dla dorosłych,Dla młodzieży,Prelekcja,Warsztaty,Wykład
ORGANIZER;CN="Biblioteka Publiczna im. dr. W%C5%82adys%C5%82awa Biega%C5%84skiego":MAILTO:sekretariat@biblioteka.czest.pl
END:VEVENT
BEGIN:VEVENT
DTSTART;TZID=Europe/Warsaw:20260306T180000
DTEND;TZID=Europe/Warsaw:20260306T190000
DTSTAMP:20260424T021729
CREATED:20260304T130928Z
LAST-MODIFIED:20260304T130928Z
UID:27095-1772820000-1772823600@biblioteka.czest.pl
SUMMARY:Spotkanie z Agnieszką Stapkiewicz\, autorką książki "Świrszczyńska. Genialna i nieznana"
DESCRIPTION:Anna Świrszczyńska to jedna z najciekawszych polskich poetek XX wieku – pisała o codzienności\, marzeniach\, cierpieniu\, cielesności i szczęściu. Jej przejmujący tom o powstaniu warszawskim – „Budowałam barykadę” do dziś porusza czytelników. Biografia autorstwa Agnieszki Stapkiewicz pokazuje nie tylko Świrszczyńską–poetkę\, ale też kobietę\, która swoim stylem życia wyprzedzała epokę. \nNa spotkaniu wiersze Anny Świrszczyńskiej przeczyta Agata Ochota-Hutyra\, aktorka Teatru im. Adama Mickiewicza w Częstochowie  \nWstęp wolny!
URL:https://biblioteka.czest.pl/wydarzenie/spotkanie-z-agnieszka-stapkiewicz-autorka-ksiazki-swirszczynska-genialna-i-nieznana/
LOCATION:Biblioteka Publiczna im. dr Władysława Biegańskiego\, Aleja Najświętszej Maryi Panny 22\, Częstochowa\, Śląskie\, 42-202\, Poland
CATEGORIES:Dla dorosłych,Dla młodzieży,Dla seniorów,Spotkania autorskie
ORGANIZER;CN="Biblioteka Publiczna im. dr. W%C5%82adys%C5%82awa Biega%C5%84skiego":MAILTO:sekretariat@biblioteka.czest.pl
END:VEVENT
BEGIN:VEVENT
DTSTART;TZID=Europe/Warsaw:20260307T110000
DTEND;TZID=Europe/Warsaw:20260307T123000
DTSTAMP:20260424T021729
CREATED:20260304T131103Z
LAST-MODIFIED:20260304T131103Z
UID:27097-1772881200-1772886600@biblioteka.czest.pl
SUMMARY:Warsztaty dla dorosłych: Naturalne kosmetyki - peeling cukrowy
DESCRIPTION:Podczas warsztatów porozmawiamy o tym\, jak dbać o skórę i jak dawniej wyglądała pielęgnacja. Zastanowimy się\, czy kosmetyki to codzienna konieczność\, czy może rytuał. Poznamy także naturalne składniki kosmetyczne\, a spotkanie zakończymy wspólnym przygotowaniem peelingu cukrowego. \nObowiązują wcześniejsze zapisy!
URL:https://biblioteka.czest.pl/wydarzenie/warsztaty-dla-doroslych-naturalne-kosmetyki-peeling-cukrowy/
LOCATION:Muzoteka\, Aleja Kościuszki 4\, Częstochowa\, Śląskie\, 42-200\, Poland
CATEGORIES:Dla dorosłych,Warsztaty
ORGANIZER;CN="Biblioteka Publiczna im. dr. W%C5%82adys%C5%82awa Biega%C5%84skiego":MAILTO:sekretariat@biblioteka.czest.pl
END:VEVENT
BEGIN:VEVENT
DTSTART;TZID=Europe/Warsaw:20260310T180000
DTEND;TZID=Europe/Warsaw:20260310T190000
DTSTAMP:20260424T021729
CREATED:20260304T131254Z
LAST-MODIFIED:20260304T131254Z
UID:27099-1773165600-1773169200@biblioteka.czest.pl
SUMMARY:POGADUCHY W MUZOTECE
DESCRIPTION:Od klasyki do jazzu!\nGość specjalny: Siergiej Wowkotrub \nSpotkanie poświęcone muzycznej podróży między dwoma niezwykle ważnymi nurtami muzyki. Podczas prelekcji przyjrzymy się\, jak muzyka klasyczna inspirowała twórców jazzu oraz jak jego elementy przenikały do kompozycji klasycznych. Porozmawiamy o najważniejszych artystach\, utworach i momentach w historii muzyki\, które łączą te dwa światy. Spotkanie będzie okazją do odkrywania zaskakujących powiązań między tradycją a improwizacją oraz do wspólnego słuchania wybranych utworów muzycznych. \nSiergiej Wowkotrub – skrzypek klasyczny\, wirtuoz oraz kompozytor\, od lat związany z Częstochową. Artysta pochodzi z Ukrainy i jest absolwentem Narodowej Akademii Muzycznej Ukrainy im. Piotra Czajkowskiego w Kijowie w klasie skrzypiec prof. A. I. Bażenowa. W 1992 roku\, na zaproszenie ówczesnego dyrektora Filharmonii Częstochowskie Jerzego Koska\, przyjechał do Polski i został skrzypkiem orkiestry symfonicznej\, szybko obejmując stanowisko pierwszych skrzypiec. \nWstęp wolny!
URL:https://biblioteka.czest.pl/wydarzenie/pogaduchy-w-muzotece-2/
LOCATION:Muzoteka\, Aleja Kościuszki 4\, Częstochowa\, Śląskie\, 42-200\, Poland
CATEGORIES:Dla dorosłych,Dla młodzieży,Dla seniorów,Prelekcja,Wykład,Zajęcia muzyczne
ORGANIZER;CN="Biblioteka Publiczna im. dr. W%C5%82adys%C5%82awa Biega%C5%84skiego":MAILTO:sekretariat@biblioteka.czest.pl
END:VEVENT
BEGIN:VEVENT
DTSTART;TZID=Europe/Warsaw:20260310T180000
DTEND;TZID=Europe/Warsaw:20260310T190000
DTSTAMP:20260424T021729
CREATED:20260304T131501Z
LAST-MODIFIED:20260304T131501Z
UID:27101-1773165600-1773169200@biblioteka.czest.pl
SUMMARY:Spotkanie z psycholożką Dominiką Miedzińską-Golczyk
DESCRIPTION:Zapraszamy Częstochowianki na wykład psycholożki Dominiki Miedzińskiej-Golczyk\, podczas którego porozmawiamy o emocjach\, ich wpływie na codzienne życie oraz o skutecznych sposobach radzenia sobie w trudnych sytuacjach. Spotkanie obejmie również dyskusję o książkach\, które wspierają rozwój osobisty i pomagają lepiej zrozumieć siebie. To inspirujące wydarzenie może stać się impulsem do wprowadzenia pozytywnych zmian i większej świadomości emocjonalnej w życiu uczestniczek. \nWstęp wolny!
URL:https://biblioteka.czest.pl/wydarzenie/spotkanie-z-psycholozka-dominika-miedzinska-golczyk/
LOCATION:Biblioteka Publiczna im. dr Władysława Biegańskiego\, Aleja Najświętszej Maryi Panny 22\, Częstochowa\, Śląskie\, 42-202\, Poland
CATEGORIES:Dla dorosłych,Prelekcja,Wykład
ORGANIZER;CN="Biblioteka Publiczna im. dr. W%C5%82adys%C5%82awa Biega%C5%84skiego":MAILTO:sekretariat@biblioteka.czest.pl
END:VEVENT
BEGIN:VEVENT
DTSTART;TZID=Europe/Warsaw:20260313T170000
DTEND;TZID=Europe/Warsaw:20260313T183000
DTSTAMP:20260424T021729
CREATED:20260304T131641Z
LAST-MODIFIED:20260304T131641Z
UID:27103-1773421200-1773426600@biblioteka.czest.pl
SUMMARY:Warsztaty dla dorosłych: Naturalne kosmetyki - mgiełka do pościeli
DESCRIPTION:Podczas warsztatów poznamy rośliny o właściwościach relaksujących i dowiemy się\, jaki mają wpływ na organizm oraz dlaczego pomagają wyciszyć się i zredukować stres. Porozmawiamy także o naturalnych sposobach radzenia sobie z napięciem\, stosowanych dawniej w codziennym życiu. Na zakończenie uczestnicy przygotują własną\, aromatyczną mgiełkę do pościeli sprzyjającą relaksowi i spokojnemu snu. \nObowiązują wcześniejsze zapisy!
URL:https://biblioteka.czest.pl/wydarzenie/warsztaty-dla-doroslych-naturalne-kosmetyki-mgielka-do-poscieli/
LOCATION:Muzoteka\, Aleja Kościuszki 4\, Częstochowa\, Śląskie\, 42-200\, Poland
CATEGORIES:Dla dorosłych,Dla młodzieży,Dla seniorów,Warsztaty
ORGANIZER;CN="Biblioteka Publiczna im. dr. W%C5%82adys%C5%82awa Biega%C5%84skiego":MAILTO:sekretariat@biblioteka.czest.pl
END:VEVENT
BEGIN:VEVENT
DTSTART;TZID=Europe/Warsaw:20260318T160000
DTEND;TZID=Europe/Warsaw:20260318T173000
DTSTAMP:20260424T021729
CREATED:20260305T075104Z
LAST-MODIFIED:20260305T075104Z
UID:27105-1773849600-1773855000@biblioteka.czest.pl
SUMMARY:Rodzinne warsztaty: Smocze jajka na Wielkanoc
DESCRIPTION:Zajęcia rękodzielnicze dla dzieci z okazji zbliżających się Świąt Wielkanocnych. Podczas warsztatów dzieci wraz z opiekunami będą ozdabiać styropianowe jajka\, nadając im niezwykły wygląd inspirowany jajami znanymi z bajek o smokach. To doskonała okazja do wspólnej zabawy\, rozwijania kreatywności i stworzenia wyjątkowej\, fantastycznej ozdoby wielkanocnej. \nObowiązują wcześniejsze zapisy!
URL:https://biblioteka.czest.pl/wydarzenie/rodzinne-warsztaty-smocze-jajka-na-wielkanoc/
LOCATION:Filia nr 10\, Kazimierza Michałowskiego 20\, Częstochowa\, Śląskie\, 42-200\, Poland
CATEGORIES:Dla dzieci,Warsztaty,Zajęcia plastyczne
ORGANIZER;CN="Biblioteka Publiczna im. dr. W%C5%82adys%C5%82awa Biega%C5%84skiego":MAILTO:sekretariat@biblioteka.czest.pl
END:VEVENT
BEGIN:VEVENT
DTSTART;TZID=Europe/Warsaw:20260319T160000
DTEND;TZID=Europe/Warsaw:20260319T170000
DTSTAMP:20260424T021729
CREATED:20260305T075320Z
LAST-MODIFIED:20260305T075320Z
UID:27107-1773936000-1773939600@biblioteka.czest.pl
SUMMARY:Warsztaty dla dorosłych: Dekoracja na Wielkanoc
DESCRIPTION:Zajęcia rękodzielnicze dla dorosłych\, podczas których każdy uczestnik stworzy wiosenną dekorację do domu w kształcie jajka\, idealną na Święta Wielkanocne. Do wykonania ozdób wykorzystamy różnorodne dostępne materiały\, wszyscy będą mogli puścić wodze fantazji i nadać swojej pracy indywidualny charakter. To świetna okazja do relaksu\, rozwijania kreatywności i stworzenia wyjątkowej świątecznej dekoracji. \nObowiązują wcześniejsze zapisy!
URL:https://biblioteka.czest.pl/wydarzenie/warsztaty-dla-doroslych-dekoracja-na-wielkanoc/
LOCATION:Filia nr 1\, Aleja Niepodległości 11\, Częstochowa\, Śląskie\, 42-216\, Poland
CATEGORIES:Dla dorosłych,Warsztaty
ORGANIZER;CN="Biblioteka Publiczna im. dr. W%C5%82adys%C5%82awa Biega%C5%84skiego":MAILTO:sekretariat@biblioteka.czest.pl
END:VEVENT
BEGIN:VEVENT
DTSTART;TZID=Europe/Warsaw:20260320T180000
DTEND;TZID=Europe/Warsaw:20260320T193000
DTSTAMP:20260424T021729
CREATED:20260305T075548Z
LAST-MODIFIED:20260305T075548Z
UID:27109-1774029600-1774035000@biblioteka.czest.pl
SUMMARY:Spotkanie autorskie z Katarzyną Rzehak
DESCRIPTION:Spotkanie z Katarzyną Rzehak\, autorką książki „Wanda Telakowska. Piękno dla wszystkich\, czyli jak powstało polskie wzornictwo przemysłowe” \nPorozmawiamy o złotej erze polskiego dizajnu i najważniejszych projektach tego okresu. Podczas spotkania uczestnicy będą mieli okazję zaprezentować własne pamiątki z tamtych lat – wazoniki\, filiżanki\, figurki i inne przedmioty wzornictwa przemysłowego. To doskonała okazja do wspólnego odkrywania historii polskiego designu i dzielenia się pasją do pięknych przedmiotów. \nWstęp wolny!
URL:https://biblioteka.czest.pl/wydarzenie/spotkanie-autorskie-z-katarzyna-rzehak/
LOCATION:Biblioteka Publiczna im. dr Władysława Biegańskiego\, Aleja Najświętszej Maryi Panny 22\, Częstochowa\, Śląskie\, 42-202\, Poland
CATEGORIES:Dla dorosłych,Dla młodzieży,Dla seniorów,Prelekcja,Spotkania autorskie
ORGANIZER;CN="Biblioteka Publiczna im. dr. W%C5%82adys%C5%82awa Biega%C5%84skiego":MAILTO:sekretariat@biblioteka.czest.pl
END:VEVENT
BEGIN:VEVENT
DTSTART;TZID=Europe/Warsaw:20260321T110000
DTEND;TZID=Europe/Warsaw:20260321T123000
DTSTAMP:20260424T021729
CREATED:20260305T075747Z
LAST-MODIFIED:20260305T075747Z
UID:27111-1774090800-1774096200@biblioteka.czest.pl
SUMMARY:Warsztaty dla dorosłych: Naturalne kosmetyki - serum do twarzy
DESCRIPTION:Podczas warsztatów porozmawiamy o pielęgnacji skóry twarzy i o tym\, dlaczego warto o nią dbać. Zastanowimy się\, co jest lepsze – kremy z drogerii czy naturalne oleje – oraz poznamy tradycyjne metody pielęgnacji stosowane w przeszłości\, w tym rośliny wykorzystywane do dbania o cerę. Na zakończenie uczestnicy przygotują własne\, odżywcze olejowe serum do twarzy. \nObowiązują wcześniejsze zapisy!
URL:https://biblioteka.czest.pl/wydarzenie/warsztaty-dla-doroslych-naturalne-kosmetyki-serum-do-twarzy/
LOCATION:Muzoteka\, Aleja Kościuszki 4\, Częstochowa\, Śląskie\, 42-200\, Poland
CATEGORIES:Dla dorosłych,Dla seniorów,Warsztaty
ORGANIZER;CN="Muzoteka":MAILTO:muzyczna@biblioteka.czest.pl
END:VEVENT
BEGIN:VEVENT
DTSTART;TZID=Europe/Warsaw:20260324T180000
DTEND;TZID=Europe/Warsaw:20260324T190000
DTSTAMP:20260424T021729
CREATED:20260305T075940Z
LAST-MODIFIED:20260305T075940Z
UID:27113-1774375200-1774378800@biblioteka.czest.pl
SUMMARY:Spotkanie Klubu Książki Fantasy & Science Fiction "Światy (nie)doskonałe"
DESCRIPTION:Klub książki „Miecze\, Mrok & Magia” wraca w nowej odsłonie jako „Światy (nie)doskonałe”. Nowe miejsce\, nowa nazwa i nowa lista lektur! Zapraszamy na marcowe spotkanie\, które oficjalnie rozpocznie kolejny cykl rozmów wokół literatury gatunkowej. W tym miesiącu sięgamy po „Wszystkie wskaźniki czerwone. Sztuczny stan” Marthy Wells – błyskotliwą i pełną ironicznego humoru opowieść science fiction o samoświadomej jednostce ochronnej\, która wbrew sobie uczy się\, czym są wolność\, odpowiedzialność i relacje z ludźmi. To początek serii „Pamiętniki Mordbota”\, niedawno zekranizowanej jako serial „Murderbot” dla platformy Apple TV+. \nWstęp wolny!
URL:https://biblioteka.czest.pl/wydarzenie/spotkanie-klubu-ksiazki-fantasy-science-fiction-swiaty-niedoskonale/
LOCATION:Biblioteka Publiczna im. dr Władysława Biegańskiego\, Aleja Najświętszej Maryi Panny 22\, Częstochowa\, Śląskie\, 42-202\, Poland
CATEGORIES:Dla dorosłych,Dla młodzieży,Dla seniorów,Prelekcja,Wykład
ORGANIZER;CN="Biblioteka Publiczna im. dr. W%C5%82adys%C5%82awa Biega%C5%84skiego":MAILTO:sekretariat@biblioteka.czest.pl
END:VEVENT
BEGIN:VEVENT
DTSTART;TZID=Europe/Warsaw:20260325T180000
DTEND;TZID=Europe/Warsaw:20260325T190000
DTSTAMP:20260424T021729
CREATED:20260305T080150Z
LAST-MODIFIED:20260305T080150Z
UID:27115-1774461600-1774465200@biblioteka.czest.pl
SUMMARY:CZĘSTOCHOWSKIE OPOWIEŚCI
DESCRIPTION:Spotkanie z malarką Adelą Wiśniewską \nPodczas spotkania porozmawiamy o doświadczeniu bycia artystką w Częstochowie oraz o inspiracjach\, które kształtują jej twórczość. Dowiemy się jak malarka tworzy swoje prace. \nWydarzenie odbywa się w ramach obchodów 200-lecia połączenia Starej i Nowej Częstochowy. \nWstęp wolny!
URL:https://biblioteka.czest.pl/wydarzenie/czestochowskie-opowiesci/
LOCATION:Biblioteka Publiczna im. dr Władysława Biegańskiego\, Aleja Najświętszej Maryi Panny 22\, Częstochowa\, Śląskie\, 42-202\, Poland
CATEGORIES:Dla dorosłych,Dla młodzieży,Dla seniorów,Prelekcja,Wykład
ORGANIZER;CN="Biblioteka Publiczna im. dr. W%C5%82adys%C5%82awa Biega%C5%84skiego":MAILTO:sekretariat@biblioteka.czest.pl
END:VEVENT
BEGIN:VEVENT
DTSTART;TZID=Europe/Warsaw:20260326T160000
DTEND;TZID=Europe/Warsaw:20260326T180000
DTSTAMP:20260424T021729
CREATED:20260305T084406Z
LAST-MODIFIED:20260305T084406Z
UID:27118-1774540800-1774548000@biblioteka.czest.pl
SUMMARY:Warsztaty dla dorosłych: Naturalne świece sojowe
DESCRIPTION:Uczestnicy stworzą naturalne świece sojowe o wiosennych zapachach\, idealne jako dekoracja wielkanocnego stołu. To okazja\, by połączyć kreatywność z relaksem i własnoręcznie przygotować wyjątkową\, pachnącą ozdobę do domu \nObowiązują wcześniejsze zapisy!
URL:https://biblioteka.czest.pl/wydarzenie/warsztaty-dla-doroslych-naturalne-swiece-sojowe/
LOCATION:Filia nr 6\, Władysława Orkana 56-A\, Częstochowa\, Śląskie\, 42-229\, Poland
CATEGORIES:Dla dorosłych,Warsztaty
ORGANIZER;CN="Biblioteka Publiczna im. dr. W%C5%82adys%C5%82awa Biega%C5%84skiego":MAILTO:sekretariat@biblioteka.czest.pl
END:VEVENT
BEGIN:VEVENT
DTSTART;TZID=Europe/Warsaw:20260327T160000
DTEND;TZID=Europe/Warsaw:20260327T173000
DTSTAMP:20260424T021729
CREATED:20260305T084604Z
LAST-MODIFIED:20260305T084604Z
UID:27120-1774627200-1774632600@biblioteka.czest.pl
SUMMARY:Warsztaty dla młodzieży i dorosłych: Bullet Journal
DESCRIPTION:Podczas warsztatów uczestnicy stworzą Bullet Journal – osobisty dziennik\, w którym można zapisywać plany\, marzenia\, refleksje i wspomnienia. To okazja\, aby połączyć kreatywność z organizacją czasu i stworzyć wyjątkowe miejsce do wyrażania siebie.\n\n\n\n\n\n\nZajęcia od 16 lat\nObowiązują wcześniejsze zapisy!
URL:https://biblioteka.czest.pl/wydarzenie/warsztaty-dla-mlodziezy-i-doroslych-bullet-journal/
LOCATION:Oddział dla Dzieci i Młodzieży\, Kościuszki 4\, Częstochowa\, Śląskie\, 42-200\, Poland
CATEGORIES:Dla dorosłych,Dla młodzieży,Warsztaty,Zajęcia plastyczne
ORGANIZER;CN="Biblioteka Publiczna im. dr. W%C5%82adys%C5%82awa Biega%C5%84skiego":MAILTO:sekretariat@biblioteka.czest.pl
END:VEVENT
BEGIN:VEVENT
DTSTART;TZID=Europe/Warsaw:20260328T100000
DTEND;TZID=Europe/Warsaw:20260328T140000
DTSTAMP:20260424T021729
CREATED:20260305T085205Z
LAST-MODIFIED:20260305T085205Z
UID:27124-1774692000-1774706400@biblioteka.czest.pl
SUMMARY:Warsztaty dla młodzieży i dorosłych: Jak zacząć pisać dziennik osobisty
DESCRIPTION:Zapraszamy na wyjątkowe warsztaty pisarskie z dziennikarką Karoliną Sulej\, podczas których dowiemy się\, jak zacząć prowadzić własny dziennik.Pisanie dziennika przynosi wiele korzyści – pomaga lepiej zrozumieć siebie\, porządkować myśli i rozwijać kreatywność. Podczas spotkania Karolina Sulej podzieli się praktycznymi wskazówkami i inspiracjami\, dzięki którym pisanie stanie się naturalnym i przyjemnym elementem codzienności.\n\n\n\n\n\n\nZajęcia od 16 lat\nObowiązują wcześniejsze zapisy!
URL:https://biblioteka.czest.pl/wydarzenie/warsztaty-dla-mlodziezy-i-doroslych-jak-zaczac-pisac-dziennik-osobisty-2/
LOCATION:Oddział dla Dzieci i Młodzieży\, Kościuszki 4\, Częstochowa\, Śląskie\, 42-200\, Poland
CATEGORIES:Dla dorosłych,Dla młodzieży,Warsztaty,Wykład
ORGANIZER;CN="Biblioteka Publiczna im. dr. W%C5%82adys%C5%82awa Biega%C5%84skiego":MAILTO:sekretariat@biblioteka.czest.pl
END:VEVENT
BEGIN:VEVENT
DTSTART;TZID=Europe/Warsaw:20260328T140000
DTEND;TZID=Europe/Warsaw:20260328T170000
DTSTAMP:20260424T021729
CREATED:20260325T072215Z
LAST-MODIFIED:20260325T072215Z
UID:27218-1774706400-1774717200@biblioteka.czest.pl
SUMMARY:Zaczytani w Filmie
DESCRIPTION:Lubicie filmy\, a zwłaszcza rozmowy o nich? A gdyby połączyć seans z dyskusją o tym\, co w danej produkcji zachwyca\, zaskakuje lub rozczarowuje – i wszystko w ciągu jednego popołudnia? \nSerdecznie zapraszamy wszystkich kinomanów do Biblioteki! Rozpoczynamy nowy projekt – cykl seansów filmowych połączonych z dyskusjami w ramach Bibliotecznego Klubu Filmowego „Zaczytani w Filmie”. \nJuż 28 marca (sobota) o godz. 14:00 zapraszamy na pierwszy seans – niespodziankę inaugurujący działalność Klubu. Film\, który obejrzymy\, jest ekranizacją powieści amerykańskiej pisarki Patricii Highsmith i zdobył liczne nagrody oraz nominacje w sezonie filmowym przełomu wieków. \nPo projekcji zapraszamy do wspólnej rozmowy o filmie – jego bohaterach\, klimacie i o tym\, jak literatura przekłada się na język kina. \nPokazy filmowe w Bibliotece możliwe są dzięki Parasolowi Licencyjnemu® MPLC\, sfinansowanemu ze środków budżetu obywatelskiego w ramach zadania BO nr 282 „Spotkajmy się w Bibliotece”.
URL:https://biblioteka.czest.pl/wydarzenie/zaczytani-w-filmie/
LOCATION:Biblioteka Publiczna im. dr Władysława Biegańskiego\, Aleja Najświętszej Maryi Panny 22\, Częstochowa\, Śląskie\, 42-202\, Poland
CATEGORIES:Dla dorosłych,Dla młodzieży,Dla seniorów,Prelekcja,Wykład
ORGANIZER;CN="Biblioteka Publiczna im. dr. W%C5%82adys%C5%82awa Biega%C5%84skiego":MAILTO:sekretariat@biblioteka.czest.pl
END:VEVENT
END:VCALENDAR