BEGIN:VCALENDAR
VERSION:2.0
PRODID:-//Biblioteka Publiczna w Częstochowie - ECPv6.15.20//NONSGML v1.0//EN
CALSCALE:GREGORIAN
METHOD:PUBLISH
X-WR-CALNAME:Biblioteka Publiczna w Częstochowie
X-ORIGINAL-URL:https://biblioteka.czest.pl
X-WR-CALDESC:Wydarzenia dla Biblioteka Publiczna w Częstochowie
REFRESH-INTERVAL;VALUE=DURATION:PT1H
X-Robots-Tag:noindex
X-PUBLISHED-TTL:PT1H
BEGIN:VTIMEZONE
TZID:Europe/Warsaw
BEGIN:DAYLIGHT
TZOFFSETFROM:+0100
TZOFFSETTO:+0200
TZNAME:CEST
DTSTART:20250330T010000
END:DAYLIGHT
BEGIN:STANDARD
TZOFFSETFROM:+0200
TZOFFSETTO:+0100
TZNAME:CET
DTSTART:20251026T010000
END:STANDARD
BEGIN:DAYLIGHT
TZOFFSETFROM:+0100
TZOFFSETTO:+0200
TZNAME:CEST
DTSTART:20260329T010000
END:DAYLIGHT
BEGIN:STANDARD
TZOFFSETFROM:+0200
TZOFFSETTO:+0100
TZNAME:CET
DTSTART:20261025T010000
END:STANDARD
BEGIN:DAYLIGHT
TZOFFSETFROM:+0100
TZOFFSETTO:+0200
TZNAME:CEST
DTSTART:20270328T010000
END:DAYLIGHT
BEGIN:STANDARD
TZOFFSETFROM:+0200
TZOFFSETTO:+0100
TZNAME:CET
DTSTART:20271031T010000
END:STANDARD
END:VTIMEZONE
BEGIN:VEVENT
DTSTART;TZID=Europe/Warsaw:20260424T160000
DTEND;TZID=Europe/Warsaw:20260424T173000
DTSTAMP:20260424T002602
CREATED:20260401T125634Z
LAST-MODIFIED:20260401T125634Z
UID:27295-1777046400-1777051800@biblioteka.czest.pl
SUMMARY:Warsztaty dla młodzieży i dorosłych: Majowy Bullet Journal
DESCRIPTION:Zapraszamy na kontynuację warsztatów\, na których uczestnicy stworzą Bullet Journal na kolejny miesiąc.\nTo okazja\, aby kreatywnie stworzyć wyjątkowe miejsce do wyrażania siebie. \nZachęcamy do wzięcia udziału osoby\, które brały udział w poprzednich warsztatach oraz nowych uczestników! \nZajęcia od 16 lat\nObowiązują wcześniejsze zapisy!
URL:https://biblioteka.czest.pl/wydarzenie/warsztaty-dla-mlodziezy-i-doroslych-majowy-bullet-journal/
LOCATION:Oddział dla Dzieci i Młodzieży\, Kościuszki 4\, Częstochowa\, Śląskie\, 42-200\, Poland
CATEGORIES:Dla dorosłych,Dla młodzieży,Dla seniorów,Warsztaty
ORGANIZER;CN="Biblioteka Publiczna im. dr. W%C5%82adys%C5%82awa Biega%C5%84skiego":MAILTO:sekretariat@biblioteka.czest.pl
END:VEVENT
BEGIN:VEVENT
DTSTART;TZID=Europe/Warsaw:20260425T140000
DTEND;TZID=Europe/Warsaw:20260425T163000
DTSTAMP:20260424T002602
CREATED:20260401T125946Z
LAST-MODIFIED:20260401T132419Z
UID:27297-1777125600-1777134600@biblioteka.czest.pl
SUMMARY:Zaczytani w filmie Spotkanie Klubu Filmowego
DESCRIPTION:Zapraszamy na kolejny seans filmowy połączony z dyskusją w ramach Bibliotecznego Klubu Filmowego „Zaczytani w Filmie”. \n  \nCzy są tu fani kryminałów i kina lat 60.? Tym razem zapraszamy na jeden z najgłośniejszych filmów antyrasistowskich w historii kina amerykańskiego\, przekonująco ukazujący napięcia społeczne i uprzedzenia zakorzenione w ówczesnej rzeczywistości. \nPolicjant z Filadelfii trafia do stanu Missisipi\, gdzie kolor skóry wciąż wpływa na to\, komu się wierzy\, a komu nie. W świecie pełnym nieufności i podziałów musi zmierzyć się ze śledztwem\, które szybko wymyka się prostym ocenom. \nFilm zdobył aż 5 Oscarów\, w tym w kategoriach: Najlepszy Film\, Najlepszy Aktor Drugoplanowy oraz Najlepszy Scenariusz Adaptowany. \nBrzmi zachęcająco? Zapraszamy na wspólny seans i późniejszą rozmowę o filmie! \nWstęp wolny! \nPokazy filmowe w Bibliotece możliwe są dzięki Parasolowi Licencyjnemu® MPLC\, sfinansowanemu ze środków budżetu obywatelskiego w ramach zadania BO nr 282 „Spotkajmy się w Bibliotece”. \nBiblioteka Główna\nSala odczytowa nr 202 (II piętro)
URL:https://biblioteka.czest.pl/wydarzenie/zaczytani-w-filmie-spotkanie-klubu-filmowego/
LOCATION:Biblioteka Publiczna im. dr Władysława Biegańskiego\, Aleja Najświętszej Maryi Panny 22\, Częstochowa\, Śląskie\, 42-202\, Poland
CATEGORIES:Dla dorosłych,Dla młodzieży,Dla seniorów,Inne wydarzenia
ORGANIZER;CN="Biblioteka Publiczna im. dr. W%C5%82adys%C5%82awa Biega%C5%84skiego":MAILTO:sekretariat@biblioteka.czest.pl
END:VEVENT
BEGIN:VEVENT
DTSTART;TZID=Europe/Warsaw:20260427T170000
DTEND;TZID=Europe/Warsaw:20260427T180000
DTSTAMP:20260424T002602
CREATED:20260401T130213Z
LAST-MODIFIED:20260401T130213Z
UID:27299-1777309200-1777312800@biblioteka.czest.pl
SUMMARY:Odkryjmy Częstochowę na nowo - miejsca
DESCRIPTION:Zapraszamy na cykl prelekcji organizowanych w ramach projektu „Odkryjmy Częstochowę na nowo”\, poświęconego historii naszego miasta oraz jego dziedzictwu artystycznemu. \nPrelekcję poprowadzi dr Katarzyna Zalewska \nProjekt realizowany jest dzięki dofinansowaniu ze środków Ministerstwa Kultury i Dziedzictwa Narodowego w ramach programu „Edukacja kulturalna”. \nWstęp wolny!
URL:https://biblioteka.czest.pl/wydarzenie/odkryjmy-czestochowe-na-nowo-miejsca/
LOCATION:Biblioteka Publiczna im. dr Władysława Biegańskiego\, Aleja Najświętszej Maryi Panny 22\, Częstochowa\, Śląskie\, 42-202\, Poland
CATEGORIES:Dla dorosłych,Dla młodzieży,Dla seniorów,Prelekcja
ORGANIZER;CN="Biblioteka Publiczna im. dr. W%C5%82adys%C5%82awa Biega%C5%84skiego":MAILTO:sekretariat@biblioteka.czest.pl
END:VEVENT
BEGIN:VEVENT
DTSTART;TZID=Europe/Warsaw:20260428T180000
DTEND;TZID=Europe/Warsaw:20260428T193000
DTSTAMP:20260424T002602
CREATED:20260401T130444Z
LAST-MODIFIED:20260401T130444Z
UID:27301-1777399200-1777404600@biblioteka.czest.pl
SUMMARY:Spotkanie Klubu Książki Fantasy & Science Fiction "Światy (nie)doskonałe"
DESCRIPTION:Zapraszamy na kwietniowe spotkanie! W tym miesiącu sięgamy po „Dzieci czasu” Adriana Tchaikovsky’ego – wielowątkową\, epicką opowieść o przyszłości ludzkości\, granicach nauki i nieoczekiwanej konfrontacji dwóch cywilizacji. \nTo historia podróży ku nowemu początkowi\, w której nadzieja splata się z niepewnością\, a eksperymenty sprzed wieków przynoszą nieoczekiwane konsekwencje. W świecie odległych planet nic nie jest oczywiste\, a pytania o naturę inteligencji i przetrwania nabierają zupełnie nowego znaczenia. \nZachęcamy do lektury\, a następnie do wspólnej dyskusji o powieści! \nWstęp wolny!
URL:https://biblioteka.czest.pl/wydarzenie/spotkanie-klubu-ksiazki-fantasy-science-fiction-swiaty-niedoskonale-2/
LOCATION:Biblioteka Publiczna im. dr Władysława Biegańskiego\, Aleja Najświętszej Maryi Panny 22\, Częstochowa\, Śląskie\, 42-202\, Poland
CATEGORIES:Dla dorosłych,Dla młodzieży,Dla seniorów,Inne wydarzenia
ORGANIZER;CN="Biblioteka Publiczna im. dr. W%C5%82adys%C5%82awa Biega%C5%84skiego":MAILTO:sekretariat@biblioteka.czest.pl
END:VEVENT
BEGIN:VEVENT
DTSTART;TZID=Europe/Warsaw:20260429T170000
DTEND;TZID=Europe/Warsaw:20260429T180000
DTSTAMP:20260424T002602
CREATED:20260401T130805Z
LAST-MODIFIED:20260401T130805Z
UID:27303-1777482000-1777485600@biblioteka.czest.pl
SUMMARY:Odkryjmy Częstochowę na nowo - ludzie
DESCRIPTION:Zapraszamy na cykl prelekcji organizowanych w ramach projektu „Odkryjmy Częstochowę na nowo”\, poświęconego historii naszego miasta oraz jego dziedzictwu artystycznemu. \nPrelekcję poprowadzi dr Katarzyna Zalewska \nProjekt realizowany jest dzięki dofinansowaniu ze środków Ministerstwa Kultury i Dziedzictwa Narodowego w ramach programu „Edukacja kulturalna”. \nWstęp wolny!
URL:https://biblioteka.czest.pl/wydarzenie/odkryjmy-czestochowe-na-nowo-ludzie/
LOCATION:Biblioteka Publiczna im. dr Władysława Biegańskiego\, Aleja Najświętszej Maryi Panny 22\, Częstochowa\, Śląskie\, 42-202\, Poland
CATEGORIES:Dla dorosłych,Dla młodzieży,Dla seniorów,Prelekcja
ORGANIZER;CN="Biblioteka Publiczna im. dr. W%C5%82adys%C5%82awa Biega%C5%84skiego":MAILTO:sekretariat@biblioteka.czest.pl
END:VEVENT
END:VCALENDAR